BEGIN:VCALENDAR
VERSION:2.0
PRODID:-//Tibethaus Deutschland e.V. - ECPv6.15.17.1//NONSGML v1.0//EN
CALSCALE:GREGORIAN
METHOD:PUBLISH
X-WR-CALNAME:Tibethaus Deutschland e.V.
X-ORIGINAL-URL:https://www.tibethaus.com/zh-hans/
X-WR-CALDESC:Tibethaus Deutschland e.V.的活动
REFRESH-INTERVAL;VALUE=DURATION:PT1H
X-Robots-Tag:noindex
X-PUBLISHED-TTL:PT1H
BEGIN:VTIMEZONE
TZID:Europe/Berlin
BEGIN:DAYLIGHT
TZOFFSETFROM:+0100
TZOFFSETTO:+0200
TZNAME:CEST
DTSTART:20230326T010000
END:DAYLIGHT
BEGIN:STANDARD
TZOFFSETFROM:+0200
TZOFFSETTO:+0100
TZNAME:CET
DTSTART:20231029T010000
END:STANDARD
BEGIN:DAYLIGHT
TZOFFSETFROM:+0100
TZOFFSETTO:+0200
TZNAME:CEST
DTSTART:20240331T010000
END:DAYLIGHT
BEGIN:STANDARD
TZOFFSETFROM:+0200
TZOFFSETTO:+0100
TZNAME:CET
DTSTART:20241027T010000
END:STANDARD
BEGIN:DAYLIGHT
TZOFFSETFROM:+0100
TZOFFSETTO:+0200
TZNAME:CEST
DTSTART:20250330T010000
END:DAYLIGHT
BEGIN:STANDARD
TZOFFSETFROM:+0200
TZOFFSETTO:+0100
TZNAME:CET
DTSTART:20251026T010000
END:STANDARD
BEGIN:DAYLIGHT
TZOFFSETFROM:+0100
TZOFFSETTO:+0200
TZNAME:CEST
DTSTART:20260329T010000
END:DAYLIGHT
BEGIN:STANDARD
TZOFFSETFROM:+0200
TZOFFSETTO:+0100
TZNAME:CET
DTSTART:20261025T010000
END:STANDARD
END:VTIMEZONE
BEGIN:VEVENT
DTSTART;TZID=Europe/Berlin:20251213T190000
DTEND;TZID=Europe/Berlin:20251213T210000
DTSTAMP:20260422T115614
CREATED:20250605T134143Z
LAST-MODIFIED:20251209T095630Z
UID:10000759-1765652400-1765659600@www.tibethaus.com
SUMMARY:Das Licht des Nichts (vor Ort + live online)
DESCRIPTION:Gibt es eine christlich-buddhistische Mystik? \nThemenabend | Bhikshu Tenzin Peljor im Gespräch mit Dr. Thomas Wagner  \n„Das Licht des Nichts“ ist der Titel eines Buches des katholischen \nReligionsphilosophen Bernhard Welte (1906-1983). Es benennt einen Gedanken christlicher Mystik\, der besagt\, dass Gott nicht aussagbar ist und daher als Nichts bezeichnet werden kann. Gleichzeitig ist aber eine Gotteserfahrung möglich\, die der Mensch als Licht bzw. Erleuchtung erlebt. Diese Ausdrucksweise hat große Ähnlichkeit zu buddhistischen Vorstellungen\, vor allem im Zusammenhang mit dem Begriff der „Leerheit“. Ein genauerer Blick offenbart aber auch bleibende Unterschiede in den jeweiligen Wirklichkeitsvorstellungen\, die nicht vergessen werden dürfen. \nMit zwei ausgewiesenen Experten auf diesem Gebiet und unter Einbeziehung des Publikums wollen wir diesen Fragen weiter nachgehen. Dr. Karsten Schmidt wird die Diskussionen einleiten und moderieren. \nDies ist eine Kooperationsveranstaltung mit dem Haus am Dom. \nZeit | 19 bis 21 Uhr  \nRegulär 18 Euro | Mitglieder 15 Euro | Ermäßigt 12 Euro
URL:https://www.tibethaus.com/zh-hans/event/das-licht-des-nichts-vor-ort-live-online-2/
LOCATION:Tibethaus Deutschland\, Georg-Voigt-Straße 4\, Frankfurt\, Hessen\, 60325
CATEGORIES:Tibethaus Dialogforum,Wissenschaft
END:VEVENT
BEGIN:VEVENT
DTSTART;TZID=Europe/Berlin:20241031T193000
DTEND;TZID=Europe/Berlin:20241031T213000
DTSTAMP:20260422T115614
CREATED:20240522T110145Z
LAST-MODIFIED:20241018T120419Z
UID:10000333-1730403000-1730410200@www.tibethaus.com
SUMMARY:Jesus\, ein anonymer Buddhist? (vor Ort im Haus am Dom)
DESCRIPTION:DONNERSTAG 31. OKTOBER 2024 \nBuddhistisch-Christliches Dialogforum \nSoirée am Dom | Dr. Mathias Schneider im Gespräch mit Dr. Karsten Schmidt  \nWie wird Jesus Christus im Buddhismus wahrgenommen? Ist Jesus ein fremder Dämon? Ist Jesus\, der 600 Jahre später als Siddhartha Gautama lebte\, auch ein erleuchteter Buddha? Oder ist Jesus ein Bodhisattva\, der auf seinem Erleuchtungsweg der universellen Liebe wegen auf das Eingehen ins Nirwana verzichtete und am Kreuz endete? \nDer Abend wird von Dr. Thomas Wagner moderiert. Dr. Mathias Schneider\, Christ und Autor des Buches „Buddhistische Interpretationen Jesu“\, Universität Münster. \nDies ist eine Veranstaltung des Haus am Dom in Kooperation mit dem Tibethaus Deutschland. \nAnmeldung bitte über Haus am Dom!
URL:https://www.tibethaus.com/zh-hans/event/jesus-ein-anonymer-buddhist-vor-ort-im-haus-am-dom/
LOCATION:Haus am Dom\, Domplatz 3\, Frankfurt am Main\, 60311\, Deutschland
CATEGORIES:Tibethaus Dialogforum,Wissenschaft
ATTACH;FMTTYPE=image/jpeg:https://www.tibethaus.com/wp-content/uploads/Einfach-sein-scaled.jpg
END:VEVENT
END:VCALENDAR