BEGIN:VCALENDAR
VERSION:2.0
PRODID:-//Tibethaus Deutschland e.V. - ECPv6.15.17.1//NONSGML v1.0//EN
CALSCALE:GREGORIAN
METHOD:PUBLISH
X-ORIGINAL-URL:https://www.tibethaus.com/tb/
X-WR-CALDESC:Events for Tibethaus Deutschland e.V.
REFRESH-INTERVAL;VALUE=DURATION:PT1H
X-Robots-Tag:noindex
X-PUBLISHED-TTL:PT1H
BEGIN:VTIMEZONE
TZID:Europe/Berlin
BEGIN:DAYLIGHT
TZOFFSETFROM:+0100
TZOFFSETTO:+0200
TZNAME:CEST
DTSTART:20250330T010000
END:DAYLIGHT
BEGIN:STANDARD
TZOFFSETFROM:+0200
TZOFFSETTO:+0100
TZNAME:CET
DTSTART:20251026T010000
END:STANDARD
BEGIN:DAYLIGHT
TZOFFSETFROM:+0100
TZOFFSETTO:+0200
TZNAME:CEST
DTSTART:20260329T010000
END:DAYLIGHT
BEGIN:STANDARD
TZOFFSETFROM:+0200
TZOFFSETTO:+0100
TZNAME:CET
DTSTART:20261025T010000
END:STANDARD
BEGIN:DAYLIGHT
TZOFFSETFROM:+0100
TZOFFSETTO:+0200
TZNAME:CEST
DTSTART:20270328T010000
END:DAYLIGHT
BEGIN:STANDARD
TZOFFSETFROM:+0200
TZOFFSETTO:+0100
TZNAME:CET
DTSTART:20271031T010000
END:STANDARD
END:VTIMEZONE
BEGIN:VEVENT
DTSTART;TZID=Europe/Berlin:20260222T110000
DTEND;TZID=Europe/Berlin:20260222T140000
DTSTAMP:20260420T151410
CREATED:20251112T151957Z
LAST-MODIFIED:20260216T110840Z
UID:10001357-1771758000-1771768800@www.tibethaus.com
SUMMARY:WARTELISTE Losar: Tibetisches Neujahrsfest
DESCRIPTION:Tashi Delek! Am 18. Februar beginnt das Jahr 2153\, das Jahr des Feuerpferdes. Wir werden das tibetische Neujahrsfest am Sonntag\, dem 22. Februar zusammen mit der tibetischen Gemeinde Frankfurt und den Kindern der Sherab-Ling-Sonntagsschule feiern. Es finden gemeinsame\, glücksverheißende Rezitationen statt\, danach eine Aufführung mit tibetischen Liedern und Tänzen. Zum Abschluss wird ein leckeres tibetisches Essen von der tibetischen Gemeinschaft serviert. Wir freuen uns über eine Spende für das Essen. \nDie Veranstaltung ist ausgebucht\, sie können sich jedoch in die Warteliste eintragen. Hierzu bitte eine Email an info@tibethaus.com schicken. Danke. \nDiese Veranstaltung ist gebührenfrei\, wir freuen uns über eine Spende für den Bereich Kunst und Kultur.
URL:https://www.tibethaus.com/tb/event/losar-tibetisches-neujahrsfest/
LOCATION:Tibethaus Deutschland\, Georg-Voigt-Straße 4\, Frankfurt\, Hessen\, 60325
CATEGORIES:Kultur
ATTACH;FMTTYPE=image/jpeg:https://www.tibethaus.com/wp-content/uploads/IMG_1953-scaled.jpg
END:VEVENT
END:VCALENDAR