BEGIN:VCALENDAR
VERSION:2.0
PRODID:-//Tibethaus Deutschland e.V. - ECPv6.15.17.1//NONSGML v1.0//EN
CALSCALE:GREGORIAN
METHOD:PUBLISH
X-ORIGINAL-URL:https://www.tibethaus.com/tb/
X-WR-CALDESC:Events for Tibethaus Deutschland e.V.
REFRESH-INTERVAL;VALUE=DURATION:PT1H
X-Robots-Tag:noindex
X-PUBLISHED-TTL:PT1H
BEGIN:VTIMEZONE
TZID:Europe/Berlin
BEGIN:DAYLIGHT
TZOFFSETFROM:+0100
TZOFFSETTO:+0200
TZNAME:CEST
DTSTART:20250330T010000
END:DAYLIGHT
BEGIN:STANDARD
TZOFFSETFROM:+0200
TZOFFSETTO:+0100
TZNAME:CET
DTSTART:20251026T010000
END:STANDARD
BEGIN:DAYLIGHT
TZOFFSETFROM:+0100
TZOFFSETTO:+0200
TZNAME:CEST
DTSTART:20260329T010000
END:DAYLIGHT
BEGIN:STANDARD
TZOFFSETFROM:+0200
TZOFFSETTO:+0100
TZNAME:CET
DTSTART:20261025T010000
END:STANDARD
BEGIN:DAYLIGHT
TZOFFSETFROM:+0100
TZOFFSETTO:+0200
TZNAME:CEST
DTSTART:20270328T010000
END:DAYLIGHT
BEGIN:STANDARD
TZOFFSETFROM:+0200
TZOFFSETTO:+0100
TZNAME:CET
DTSTART:20271031T010000
END:STANDARD
END:VTIMEZONE
BEGIN:VEVENT
DTSTART;TZID=Europe/Berlin:20260202T183000
DTEND;TZID=Europe/Berlin:20260202T210000
DTSTAMP:20260422T064553
CREATED:20251112T153730Z
LAST-MODIFIED:20251112T153730Z
UID:10001326-1770057000-1770066000@www.tibethaus.com
SUMMARY:MBSR-8-Wochen-Kurs (Kurs 1_2026) (Beginn) | Christian Stocker
DESCRIPTION:MONTAG 2. FEBRUAR (Beginn) \nMBSR (Mindfulness-Based Stress Reduction) Stressbewältigung durch Achtsamkeit nach Prof. Dr. Jon Kabat-Zinn  \nAchtsamkeit ist das ruhige und gelassene Wahrnehmen von allem\, was um und in uns auftaucht. Sich dabei von Gedanken und Verhaltensmustern freizumachen\, hilft Blockaden zu überwinden\, Stress abzubauen und besser mit Ängsten und Schmerzen umzugehen. Weitere Informationen auf unserer Homepage im Vorstellungsvideo von unseren MBSR-Trainern Heike Merkle und Christian Stocker sowie im persönlichen Vorstellungsgespräch.  \nRegulär 410 Euro | Mitglieder 360 Euro | Ermäßigung auf Anfrage  \nAnmeldeschluss ist jeweils eine Woche vorher. \nZeit | 18.30 bis 21 Uhr  \nFolgende Termine sind vorgesehen: 2.2.\, 9.2.\, 16.2.\, 23.2.\, 2.3.\, 9.3.\, 16.3. und 23.3.2026 sowie ein Achtsamkeitstag am 7.3.2026  von 10 bis 16 Uhr. \nBitte beachten: Sie erhalten ein kostenloses Anmeldeformular. Nach Bearbeitung und wenn alle Kriterien erfüllt sind\, erhalten Sie eine Anmeldebestätigung. \n  \nUnsere Kursgebühren folgen dem Gedanken der gegenseitigen Unterstützung:\nManche tragen mehr\, damit andere weniger zahlen können – und gemeinsam ermöglichen wir so ein offenes\, vielfältiges Miteinander. Der reguläre Beitrag hilft\, das Tibethaus auf eine stabile Grundlage zu stellen und gleichzeitig Teilhabe für alle zu schaffen.  Ein kleiner Beitrag mit großer Wirkung – herzlichen Dank für eure Solidarität und Verbundenheit. \nErmäßigte Kursgebühren \nUnsere ermäßigten Gebühren richten sich an Menschen mit geringeren finanziellen Möglichkeiten – zum Beispiel Schüler/innen\, Student/innen\, Auszubildende\, Erwerbslose oder Rentner/innen mit kleiner Rente. Wir vertrauen darauf\, dass jede und jeder die passende Gebühr nach den eigenen Möglichkeiten wählt. In Einzelfällen können wir um einen Nachweis bitten.
URL:https://www.tibethaus.com/tb/event/mbsr-8-wochen-kurs-kurs-1_2026/
LOCATION:Tibethaus Deutschland\, Georg-Voigt-Straße 4\, Frankfurt\, Hessen\, 60325
CATEGORIES:Persönlichkeit
ATTACH;FMTTYPE=image/jpeg:https://www.tibethaus.com/wp-content/uploads/Christian-Stocker.jpeg-scaled.jpg
END:VEVENT
END:VCALENDAR