BEGIN:VCALENDAR
VERSION:2.0
PRODID:-//Tibethaus Deutschland e.V. - ECPv6.15.17.1//NONSGML v1.0//EN
CALSCALE:GREGORIAN
METHOD:PUBLISH
X-ORIGINAL-URL:https://www.tibethaus.com/tb/
X-WR-CALDESC:Events for Tibethaus Deutschland e.V.
REFRESH-INTERVAL;VALUE=DURATION:PT1H
X-Robots-Tag:noindex
X-PUBLISHED-TTL:PT1H
BEGIN:VTIMEZONE
TZID:Europe/Berlin
BEGIN:DAYLIGHT
TZOFFSETFROM:+0100
TZOFFSETTO:+0200
TZNAME:CEST
DTSTART:20250330T010000
END:DAYLIGHT
BEGIN:STANDARD
TZOFFSETFROM:+0200
TZOFFSETTO:+0100
TZNAME:CET
DTSTART:20251026T010000
END:STANDARD
BEGIN:DAYLIGHT
TZOFFSETFROM:+0100
TZOFFSETTO:+0200
TZNAME:CEST
DTSTART:20260329T010000
END:DAYLIGHT
BEGIN:STANDARD
TZOFFSETFROM:+0200
TZOFFSETTO:+0100
TZNAME:CET
DTSTART:20261025T010000
END:STANDARD
BEGIN:DAYLIGHT
TZOFFSETFROM:+0100
TZOFFSETTO:+0200
TZNAME:CEST
DTSTART:20270328T010000
END:DAYLIGHT
BEGIN:STANDARD
TZOFFSETFROM:+0200
TZOFFSETTO:+0100
TZNAME:CET
DTSTART:20271031T010000
END:STANDARD
END:VTIMEZONE
BEGIN:VEVENT
DTSTART;TZID=Europe/Berlin:20260505T193000
DTEND;TZID=Europe/Berlin:20260505T210000
DTSTAMP:20260420T221810
CREATED:20250321T095232Z
LAST-MODIFIED:20251113T161746Z
UID:10000630-1778009400-1778014800@www.tibethaus.com
SUMMARY:Offene Meditation für Junge Leute
DESCRIPTION:Leitung | Alex Arsoudis\n\n\nViele Menschen denken\, dass (intensive) spirituelle Praxis etwas für das Alter ist\, wenn der Tod naht\, die normalen Lebensprojekte abgeschlossen sind. Der Buddha hat jedoch durch sein eigenes Beispiel gezeigt\, dass die einzige Zeit immer “jetzt” ist\, wann auch immer dieses “jetzt” sein mag. Diese Gruppe richtet sich vor allem an jüngere Personen\, um einen Raum für Gleichgesinnte zu schaffen\, aber jeder ist natürlich willkommen.\n\nAnmeldung und Vorkenntnisse sind nicht erforderlich. Interessierte sind jederzeit willkommen.\n\nZeit | 19.30 bis 21 Uhr\n\n\nIn den Tibethaus-Ferien und an Feiertagen findet die Meditation nicht statt. \nDie Teilnahme ist gebührenfrei; wir freuen uns über eine Spende für den Buddhismus-Bereich.
URL:https://www.tibethaus.com/tb/event/meditation-fuer-junge-leute-reihe-4/2026-05-05/
LOCATION:Bayern
CATEGORIES:Buddhismus
ATTACH;FMTTYPE=image/jpeg:https://www.tibethaus.com/wp-content/uploads/Alex-e1727340278885.jpg
END:VEVENT
BEGIN:VEVENT
DTSTART;TZID=Europe/Berlin:20260508T170000
DTEND;TZID=Europe/Berlin:20260510T150000
DTSTAMP:20260420T221810
CREATED:20260324T092522Z
LAST-MODIFIED:20260324T092522Z
UID:10001479-1778259600-1778425200@www.tibethaus.com
SUMMARY:Meditationsretreat – Achtsamkeit und liebende Güte (nur vor Ort)
DESCRIPTION:Retreatleitung | Alex Arsoudis \nDieses Retreat bietet einen sanften und zugleich vertiefenden Einstieg in die Praxis der Meditation. Es richtet sich besonders an Menschen mit wenig oder keiner Retreat-Erfahrung\, die erste Erfahrungen mit einem strukturierten Meditationssetting sammeln möchten. \nIm Wechsel von stiller Sitzmeditation\, Gehmeditation und der Praxis von Metta – bedingungsloser\, grenzenloser Liebe – wird die Aufmerksamkeit Schritt für Schritt stabilisiert und vertieft. Die Dauer der Sitzphasen wird dabei behutsam gesteigert\, sodass die Praxis gut zugänglich bleibt und sich organisch entfalten kann. Wir verbringen das Retreat teilweise im Schweigen. \nZwischen den Übungseinheiten gibt es klare\, progressive Anleitungen und Impulse. Themen sind unter anderem der Umgang mit Gedanken\, Emotionen\, Ablenkung\, Schläfrigkeit\, Rastlosigkeit oder Langeweile. Darüber hinaus werden praktische Hinweise gegeben\, wie sich eine regelmäßige Meditationspraxis in den Alltag integrieren lässt. \nEin weiterer Schwerpunkt liegt auf den vier Brahmaviharas – Metta (liebende Güte)\, Karuna (Mitgefühl)\, Mudita (Mitfreude) und Upekkha (Gleichmut) – als Grundlage einer offenen und wohlwollenden Haltung sich selbst und anderen gegenüber. \nZwischen den Praxisblöcken bleibt auch Zeit für Ruhe und achtsame Naturspaziergänge\, die das Erlebte vertiefen und Raum für Integration schaffen. Dieses Retreat lädt dazu ein\, in einem geschützten Rahmen zur Ruhe zu kommen\, die eigene Praxis zu entdecken und erste Schritte auf einem nachhaltigen meditativen Weg zu gehen. \nZeit | Freitag 17 Uhr bis Sonntag 15 Uhr  \nRegulär 155 Euro | Mitglieder 105 Euro | Ermäßigt 70 Euro (zzgl. Kost und Logis) \nBitte direkt anmelden über: https://www.retreathaus-berghof.de/anmeldung
URL:https://www.tibethaus.com/tb/event/meditationsretreat-achtsamkeit-und-liebende-guete-nur-vor-ort/
LOCATION:Retreathaus Berghof\, Am Berg 1\, Wiesen\, Bayern\, 63831\, Deutschland
CATEGORIES:Buddhismus
ATTACH;FMTTYPE=image/jpeg:https://www.tibethaus.com/wp-content/uploads/Wiesen-Spessart-scaled.jpg
END:VEVENT
BEGIN:VEVENT
DTSTART;TZID=Europe/Berlin:20260512T193000
DTEND;TZID=Europe/Berlin:20260512T210000
DTSTAMP:20260420T221810
CREATED:20250321T095232Z
LAST-MODIFIED:20251113T161746Z
UID:10000631-1778614200-1778619600@www.tibethaus.com
SUMMARY:Offene Meditation für Junge Leute
DESCRIPTION:Leitung | Alex Arsoudis\n\n\nViele Menschen denken\, dass (intensive) spirituelle Praxis etwas für das Alter ist\, wenn der Tod naht\, die normalen Lebensprojekte abgeschlossen sind. Der Buddha hat jedoch durch sein eigenes Beispiel gezeigt\, dass die einzige Zeit immer “jetzt” ist\, wann auch immer dieses “jetzt” sein mag. Diese Gruppe richtet sich vor allem an jüngere Personen\, um einen Raum für Gleichgesinnte zu schaffen\, aber jeder ist natürlich willkommen.\n\nAnmeldung und Vorkenntnisse sind nicht erforderlich. Interessierte sind jederzeit willkommen.\n\nZeit | 19.30 bis 21 Uhr\n\n\nIn den Tibethaus-Ferien und an Feiertagen findet die Meditation nicht statt. \nDie Teilnahme ist gebührenfrei; wir freuen uns über eine Spende für den Buddhismus-Bereich.
URL:https://www.tibethaus.com/tb/event/meditation-fuer-junge-leute-reihe-4/2026-05-12/
LOCATION:Bayern
CATEGORIES:Buddhismus
ATTACH;FMTTYPE=image/jpeg:https://www.tibethaus.com/wp-content/uploads/Alex-e1727340278885.jpg
END:VEVENT
BEGIN:VEVENT
DTSTART;TZID=Europe/Berlin:20260519T193000
DTEND;TZID=Europe/Berlin:20260519T210000
DTSTAMP:20260420T221810
CREATED:20250321T095232Z
LAST-MODIFIED:20251113T161746Z
UID:10000632-1779219000-1779224400@www.tibethaus.com
SUMMARY:Offene Meditation für Junge Leute
DESCRIPTION:Leitung | Alex Arsoudis\n\n\nViele Menschen denken\, dass (intensive) spirituelle Praxis etwas für das Alter ist\, wenn der Tod naht\, die normalen Lebensprojekte abgeschlossen sind. Der Buddha hat jedoch durch sein eigenes Beispiel gezeigt\, dass die einzige Zeit immer “jetzt” ist\, wann auch immer dieses “jetzt” sein mag. Diese Gruppe richtet sich vor allem an jüngere Personen\, um einen Raum für Gleichgesinnte zu schaffen\, aber jeder ist natürlich willkommen.\n\nAnmeldung und Vorkenntnisse sind nicht erforderlich. Interessierte sind jederzeit willkommen.\n\nZeit | 19.30 bis 21 Uhr\n\n\nIn den Tibethaus-Ferien und an Feiertagen findet die Meditation nicht statt. \nDie Teilnahme ist gebührenfrei; wir freuen uns über eine Spende für den Buddhismus-Bereich.
URL:https://www.tibethaus.com/tb/event/meditation-fuer-junge-leute-reihe-4/2026-05-19/
LOCATION:Bayern
CATEGORIES:Buddhismus
ATTACH;FMTTYPE=image/jpeg:https://www.tibethaus.com/wp-content/uploads/Alex-e1727340278885.jpg
END:VEVENT
BEGIN:VEVENT
DTSTART;TZID=Europe/Berlin:20260526T193000
DTEND;TZID=Europe/Berlin:20260526T210000
DTSTAMP:20260420T221810
CREATED:20250321T095232Z
LAST-MODIFIED:20251113T161746Z
UID:10000633-1779823800-1779829200@www.tibethaus.com
SUMMARY:Offene Meditation für Junge Leute
DESCRIPTION:Leitung | Alex Arsoudis\n\n\nViele Menschen denken\, dass (intensive) spirituelle Praxis etwas für das Alter ist\, wenn der Tod naht\, die normalen Lebensprojekte abgeschlossen sind. Der Buddha hat jedoch durch sein eigenes Beispiel gezeigt\, dass die einzige Zeit immer “jetzt” ist\, wann auch immer dieses “jetzt” sein mag. Diese Gruppe richtet sich vor allem an jüngere Personen\, um einen Raum für Gleichgesinnte zu schaffen\, aber jeder ist natürlich willkommen.\n\nAnmeldung und Vorkenntnisse sind nicht erforderlich. Interessierte sind jederzeit willkommen.\n\nZeit | 19.30 bis 21 Uhr\n\n\nIn den Tibethaus-Ferien und an Feiertagen findet die Meditation nicht statt. \nDie Teilnahme ist gebührenfrei; wir freuen uns über eine Spende für den Buddhismus-Bereich.
URL:https://www.tibethaus.com/tb/event/meditation-fuer-junge-leute-reihe-4/2026-05-26/
LOCATION:Bayern
CATEGORIES:Buddhismus
ATTACH;FMTTYPE=image/jpeg:https://www.tibethaus.com/wp-content/uploads/Alex-e1727340278885.jpg
END:VEVENT
END:VCALENDAR