BEGIN:VCALENDAR
VERSION:2.0
PRODID:-//Tibethaus Deutschland e.V. - ECPv6.15.17.1//NONSGML v1.0//EN
CALSCALE:GREGORIAN
METHOD:PUBLISH
X-WR-CALNAME:Tibethaus Deutschland e.V.
X-ORIGINAL-URL:https://www.tibethaus.com/tb/
X-WR-CALDESC:Events for Tibethaus Deutschland e.V.
REFRESH-INTERVAL;VALUE=DURATION:PT1H
X-Robots-Tag:noindex
X-PUBLISHED-TTL:PT1H
BEGIN:VTIMEZONE
TZID:Europe/Berlin
BEGIN:DAYLIGHT
TZOFFSETFROM:+0100
TZOFFSETTO:+0200
TZNAME:CEST
DTSTART:20250330T010000
END:DAYLIGHT
BEGIN:STANDARD
TZOFFSETFROM:+0200
TZOFFSETTO:+0100
TZNAME:CET
DTSTART:20251026T010000
END:STANDARD
BEGIN:DAYLIGHT
TZOFFSETFROM:+0100
TZOFFSETTO:+0200
TZNAME:CEST
DTSTART:20260329T010000
END:DAYLIGHT
BEGIN:STANDARD
TZOFFSETFROM:+0200
TZOFFSETTO:+0100
TZNAME:CET
DTSTART:20261025T010000
END:STANDARD
BEGIN:DAYLIGHT
TZOFFSETFROM:+0100
TZOFFSETTO:+0200
TZNAME:CEST
DTSTART:20270328T010000
END:DAYLIGHT
BEGIN:STANDARD
TZOFFSETFROM:+0200
TZOFFSETTO:+0100
TZNAME:CET
DTSTART:20271031T010000
END:STANDARD
END:VTIMEZONE
BEGIN:VEVENT
DTSTART;TZID=Europe/Berlin:20260421T193000
DTEND;TZID=Europe/Berlin:20260421T210000
DTSTAMP:20260421T143225
CREATED:20250321T095232Z
LAST-MODIFIED:20251113T161746Z
UID:10000628-1776799800-1776805200@www.tibethaus.com
SUMMARY:Offene Meditation für Junge Leute
DESCRIPTION:Leitung | Alex Arsoudis\n\n\nViele Menschen denken\, dass (intensive) spirituelle Praxis etwas für das Alter ist\, wenn der Tod naht\, die normalen Lebensprojekte abgeschlossen sind. Der Buddha hat jedoch durch sein eigenes Beispiel gezeigt\, dass die einzige Zeit immer “jetzt” ist\, wann auch immer dieses “jetzt” sein mag. Diese Gruppe richtet sich vor allem an jüngere Personen\, um einen Raum für Gleichgesinnte zu schaffen\, aber jeder ist natürlich willkommen.\n\nAnmeldung und Vorkenntnisse sind nicht erforderlich. Interessierte sind jederzeit willkommen.\n\nZeit | 19.30 bis 21 Uhr\n\n\nIn den Tibethaus-Ferien und an Feiertagen findet die Meditation nicht statt. \nDie Teilnahme ist gebührenfrei; wir freuen uns über eine Spende für den Buddhismus-Bereich.
URL:https://www.tibethaus.com/tb/event/meditation-fuer-junge-leute-reihe-4/2026-04-21/
LOCATION:Hessen
CATEGORIES:Buddhismus
ATTACH;FMTTYPE=image/jpeg:https://www.tibethaus.com/wp-content/uploads/Alex-e1727340278885.jpg
END:VEVENT
BEGIN:VEVENT
DTSTART;TZID=Europe/Berlin:20260422T163000
DTEND;TZID=Europe/Berlin:20260422T183000
DTSTAMP:20260421T143225
CREATED:20251112T142720Z
LAST-MODIFIED:20251112T142720Z
UID:10001347-1776875400-1776882600@www.tibethaus.com
SUMMARY:SEE Learning® Praxiskapitel (live online) - Kapitel 4 Umgang mit Emotionen
DESCRIPTION:Webinar-Reihe | zertifizierte SEEL-Multiplikator/innen  \nDie Praxis-Kapitel-Webinare unterstützen die praktische Umsetzung und Anwendung der Kapitel von SEE Learning im Schulalltag. Sie stellen eine begleitete Form der Implementierung dar. \nZiel: Einen persönlichen Zugang zu jeder Lernerfahrung des Kapitels zu finden. \nKapitel 4 Umgang mit Emotionen\, 22.4.26 \nKapitel 5 Von- und übereinander lernen\, 20.5.26 \nKapitel 6 Mitgefühl für sich selbst und andere\, 17.6.26 \nKapitel 7 Wir sitzen alle im selben Boot\, 7.7.26 \nAbschlussprojekt – Eine bessere Welt gestalten\, 15.7.26 \nZeit | jeweils von 16.30 bis 18.30 Uhr  \nEinzelpreis 30 Euro \nWeitere Infos und Buchung über den SEE Learning®-Veranstaltungskalender  \n \nSEE LEARNING® (SOZIALES\, EMOTIONALES UND EHTISCHES LERNEN)  \nDas an der Emory Universität (GA\, USA) am Center for Contemplative Science and Compassion-based Ethics entwickelte säkulare Programm zur Bildung von Herz und Verstand zielt auf die nachhaltige Stärkung fundamentaler Lebenskompetenzen ab. Zu diesen für die Zukunft relevanten Kompetenzen zählen neben der emotionalen auch die soziale und systemische Intelligenz. Es geht hierbei nicht allein um die Vermittlung von Wissensinhalten\, sondern vor allem um die Schaffung von Entfaltungsräumen zur Stärkung verkörperter Qualitäten und Werte\, die einen Einfluss auf eigene Entscheidungen und Handlungen haben.  \nVeranstalter ist der SEEL e.V. Buchung\, Abwicklung und weitere Infos unter: www.see-learning.de
URL:https://www.tibethaus.com/tb/event/see-learning-praxiskapitel-4/
LOCATION:
CATEGORIES:Persönlichkeit
ATTACH;FMTTYPE=image/jpeg:https://www.tibethaus.com/wp-content/uploads/paper-figures-6652452-scaled.jpg
END:VEVENT
BEGIN:VEVENT
DTSTART;TZID=Europe/Berlin:20260422T193000
DTEND;TZID=Europe/Berlin:20260422T203000
DTSTAMP:20260421T143225
CREATED:20251113T161150Z
LAST-MODIFIED:20260129T091138Z
UID:10001418-1776886200-1776889800@www.tibethaus.com
SUMMARY:Offene Meditation (nur vor Ort)
DESCRIPTION:Leitung | Birgit Justl\, Martin Brüger und Pierre Gorsegner\n\n\nAn diesem offenen Abend\, der jeden Mittwoch stattfindet\, praktizieren wir gemeinsam grundlegende buddhistische Meditationen\, die uns zur Ruhe kommen lassen und die die Entwicklung von Achtsamkeit\, Mitgefühl und Erkenntnis fördern. \nIn regelmäßigen Abständen leitet der langjährige Zen-Praktizierende Pierre Gorsegner die Meditation in der Tradition des japanischen Zen Soto-shu an. Die Termine für die Zen Meditationsabende im 1. Halbjahr 2026 sind: 11.02. / 11.03. / 18.03. / 13.04. / 14.05. / 15.06. / 16.07. \nAnmeldung und Vorkenntnisse sind nicht erforderlich. Interessierte sind jederzeit willkommen. \nZeit | jeweils 19.30 bis 20.30 Uhr \nIn den Tibethaus-Ferien und an Feiertagen findet die Meditation nicht statt \nDie Teilnahme ist kostenlos; wir freuen uns über eine Spende für den BuddhismusBereich.
URL:https://www.tibethaus.com/tb/event/offene-meditation-26/2026-04-22/
LOCATION:Hessen
CATEGORIES:Buddhismus
ATTACH;FMTTYPE=image/jpeg:https://www.tibethaus.com/wp-content/uploads/2_00001-scaled.jpg
END:VEVENT
BEGIN:VEVENT
DTSTART;TZID=Europe/Berlin:20260424T180000
DTEND;TZID=Europe/Berlin:20260424T193000
DTSTAMP:20260421T143225
CREATED:20260323T133429Z
LAST-MODIFIED:20260408T135636Z
UID:10001478-1777053600-1777059000@www.tibethaus.com
SUMMARY:Legacy of His Holiness the 14th Dalai Lama | Professor Samdhong Rinpoche and H. E. Dagyab Kyabgön Rinpoche ( on site + live online )
DESCRIPTION:We are deeply honored to welcome Professor Samdhong Rinpoche once again to Tibet House. \nAs the Year of Compassion continues\, Rinpoche will deliver a public talk on the legacy of His Holiness the 14th Dalai Lama\, together with His Eminence Dagyab Rinpoche. As two of the closest disciples of His Holiness\, they are uniquely qualified to reflect on his life\, teachings\, and enduring impact. It is difficult to imagine more fitting speakers for such an occasion\, and we warmly encourage you not to miss this precious opportunity. This event forms part of the celebrations marking the 90th birthday of His Holiness the Dalai Lama. \nIt goes without saying that both Rinpoches will be present at Tibet House. \nThe talk will be held in English with simultaneous German translation. \nProfessor Samdhong Rinpoche formerly served as the head of the Central Institute of Higher Tibetan Studies in Sarnath\, Varanasi. He later became the first directly elected President of the Central Tibetan Administration\, serving two terms from 2000 to 2010. Prior to this\, he also held the position of Speaker of the Tibetan Parliament-in-Exile. \nRinpoche is a long-time friend and former classmate of His Eminence Dagyab Rinpoche\, with their friendship spanning more than 60 years.
URL:https://www.tibethaus.com/tb/event/legacy-of-his-holiness-the-14th-dalai-lama/
LOCATION:Tibethaus Deutschland\, Georg-Voigt-Straße 4\, Frankfurt\, Hessen\, 60325
CATEGORIES:Buddhismus
ATTACH;FMTTYPE=image/png:https://www.tibethaus.com/wp-content/uploads/dalai-lama-speaks-with-tib-006.jpg.png
END:VEVENT
BEGIN:VEVENT
DTSTART;TZID=Europe/Berlin:20260425T100000
DTEND;TZID=Europe/Berlin:20260425T190000
DTSTAMP:20260421T143225
CREATED:20260309T125349Z
LAST-MODIFIED:20260309T125349Z
UID:10001472-1777111200-1777143600@www.tibethaus.com
SUMMARY:Meditations-Vertiefungstag mit Alex Arsoudis (nur vor Ort)
DESCRIPTION:An diesem Vertiefungstag wechseln sich stille Sitzmeditation\, Gehmeditation und die Meditation auf Metta (bedingungslose\, grenzenlose Liebe) ab. Die Dauer der Sitzphasen wird im Laufe des Tages Schritt für Schritt gesteigert\, sodass sich die Praxis schrittweise vertieft und dennoch für alle gut zugänglich bleibt.\n\nZwischen den Praxisblöcken gibt es wiederholt progressive Anleitungen und Impulse – insbesondere zum Umgang mit Ablenkungen\, Gedanken\, Emotionen\, Schläfrigkeit\, Rastlosigkeit oder Langeweile. Zudem werden hilfreiche Hinweise für den Aufbau einer regelmäßigen Meditationspraxis im Alltag vermittelt.\n\nZum Abschluss des Tages besteht Raum für Fragen zur Meditation sowie für eine offene Austauschrunde unter den Teilnehmenden.\n\nVerlassen vor dem Ende ist jederzeit möglich\, falls Sie den Tag nicht vollständig bleiben möchten. Ein späteres Dazustoßen ist jedoch nicht vorgesehen.\n\n\n10 bis 19 Uhr | Mittagspause: 12 bis 13.30 Uhr\n\n\n\n\n\n  \nDie Teilnahme ist gebührenfrei; wir freuen uns über eine Spende für den Buddhismus-Bereich.
URL:https://www.tibethaus.com/tb/event/meditations-vertiefungstag-mit-alex-arsoudis-nur-vor-ort/
LOCATION:Tibethaus Deutschland\, Georg-Voigt-Straße 4\, Frankfurt\, Hessen\, 60325
CATEGORIES:Buddhismus
ATTACH;FMTTYPE=image/jpeg:https://www.tibethaus.com/wp-content/uploads/Alex-e1727340278885.jpg
END:VEVENT
BEGIN:VEVENT
DTSTART;TZID=Europe/Berlin:20260425T100000
DTEND;TZID=Europe/Berlin:20260426T130000
DTSTAMP:20260421T143225
CREATED:20251016T100442Z
LAST-MODIFIED:20251112T142618Z
UID:10000917-1777111200-1777208400@www.tibethaus.com
SUMMARY:Deep Dive Dharma – Praxiswochenende - Geistesruhe (Shamatha) (vor Ort und live online)
DESCRIPTION:Leitung | Bhikshu Tenzin Peljor \nAn sechs Wochenenden gibt es die Möglichkeit\, gemeinsam in vertiefende Meditationspraktiken einzutauchen. \nJedes Wochenende steht unter einem thematischen Schwerpunkt\, der durch angeleitete Meditationen erfahrbar gemacht wird. So kann das Gehörte in die eigene Praxis „einsinken“ und zu tieferer Einsicht führen. Ergänzend werden die theoretischen Hintergründe klar vermittelt\, und es gibt Raum für Austausch und Diskussion\, um die Übungen nachhaltig im Alltag zu verankern. \nDie Wochenenden können einzeln oder als Reihe gebucht werden und richten sich an Meditierende\, die ihre Praxis stabilisieren und vertiefen möchten – besonders an Teilnehmende von Lamrim-\, Lojong- und Lorig-Kursen.\nDie letzten beiden Wochenenden sind fortgeschritten und setzen innere Stabilität und regelmäßige Meditationspraxis voraus. Bei Unsicherheiten zur Teilnahme beraten wir gerne. \n4. Wochenende – Geistesruhe (Shamatha) \nSchrittweise Übungen zur Beruhigung\, Stabilisierung und Sammlung des Geistes.\nWelche Stufen gibt es\, und welche eignen sich für mich\, um geistige Klarheit und innere Stabilität zu entwickeln? \nGeistesruhe ist die Grundlage für alle anderen Formen der Meditation. Wer innere Ruhe hat\, hat in sich eine Insel des Friedens\, auf welcher man sich immer wieder erholen\, nähren und stärken kann. \nZeit | Samstag 10 bis 18 Uhr und Sonntag 9.30 bis 13 Uhr \nBitte geben sie beim Checkout unter “Anmerkungen” an\, ob sie Vor Ort oder Online teilnehmen. \nFür Personen mit geringen finanziellen Mitteln ist die Teilnahme auf Spendenbasis möglich. Bitte schreiben sie an info@tibethaus.com \nBhikshu Tenzin Peljor studiert und praktiziert Buddhismus seit 1996\, wurde 2006 von S. H. dem Dalai Lama vollordiniert. Absolvent des Buddhismus-Studiums im Master Programm im Lama Tsongkhapa Institut\, Italien. Unterrichtet Buddhismus und Meditation seit 20 Jahren. Sozial engagiert. \n  \nUnsere Kursgebühren folgen dem Gedanken der gegenseitigen Unterstützung:\nManche tragen mehr\, damit andere weniger zahlen können – und gemeinsam ermöglichen wir so ein offenes\, vielfältiges Miteinander. Der reguläre Beitrag hilft\, das Tibethaus auf eine stabile Grundlage zu stellen und gleichzeitig Teilhabe für alle zu schaffen.  Ein kleiner Beitrag mit großer Wirkung – herzlichen Dank für eure Solidarität und Verbundenheit. \nErmäßigte Kursgebühren \nUnsere ermäßigten Gebühren richten sich an Menschen mit geringeren finanziellen Möglichkeiten – zum Beispiel Schüler/innen\, Student/innen\, Auszubildende\, Erwerbslose oder Rentner/innen mit kleiner Rente. Wir vertrauen darauf\, dass jede und jeder die passende Gebühr nach den eigenen Möglichkeiten wählt. In Einzelfällen können wir um einen Nachweis bitten.
URL:https://www.tibethaus.com/tb/event/deep-dive-dharma-praxiswochenende4/
LOCATION:
CATEGORIES:Buddhismus
ATTACH;FMTTYPE=image/jpeg:https://www.tibethaus.com/wp-content/uploads/image0.jpeg
END:VEVENT
BEGIN:VEVENT
DTSTART;TZID=Europe/Berlin:20260427T183000
DTEND;TZID=Europe/Berlin:20260427T193000
DTSTAMP:20260421T143225
CREATED:20251112T142507Z
LAST-MODIFIED:20251112T142507Z
UID:10001382-1777314600-1777318200@www.tibethaus.com
SUMMARY:TTM Verständnis zu spezifischen Krankheitsbildern - Migräne und Anämie (live online) (Englisch mit deutscher Simultanübersetzung)
DESCRIPTION:Vertiefendes Seminar | Dr. Dickyi Nyima (Indien) mit einer Simultanübersetzung durch Saskia Wienholz  \nDie Sichtweise der Traditionellen Tibetischen Medizin (TTM) erweitert und bereichert unser Verständnis für Gesundheit und Krankheit. Spezielle Themen verlangen eine vertiefte Auseinandersetzung\, daher bietet das Dozentinnen-Team folgende themenspezifische Einheiten an:  \n\nDer Baum der Gesundheit und der Krankheit aus dem Wurzeltantra (2.3.26)  \nEffekte auf die Gesundheit durch (9.3.26)  \nHerzerkrankungen und Bluthochdruck (16.3.26)  \nInfektionskrankheiten\, Epidemien und gewöhnliche Fieber- und Erkältungskrankheiten (23.3.26)  \nAsthma und Schilddrüsenerkrankungen (30.3.26)  \nHauterkrankungen und Allergien (13.4.26)  \nRheuma und Arthritis (20.4.26)  \nMigräne und Anämie (27.4.26)  \nAutismus und ADHS (4.5.26)  \nEmbryologie und Fortpflanzung aus Sicht der TTM (11.5.26) \nFrauengesundheit (4.5.26)  \nDiabetes (11.5.26)  \nKrebserkrankungen (18.5.26)   \nMentale Gesundheit (1.6.26)  \nNeurodegenerative Erkrankungen (8.6.26)  \n\nZeiten: \nTermine 1-10 | 18.30 bis 19.30 Uhr  \nTermine 11-15 | 17.30 bis 18.30 Uhr  \nVoraussetzung: Ein Grundverständnis der Elemente-Lehre wird vorausgesetzt (wie es bspw. im Grundlagenkurs vermittelt wird). Neben Erklärungen zur Perspektive der TTM auf Ursache\, Entstehung\, Prävention\, Diagnostik und Behandlung der Störungsbilder wird es Raum für Austausch und Fragen geben.  \nRegulär 20 Euro | Mitglieder 15 Euro | Ermäßigt 10 Euro (einzelne Einheit) \n  \nUnsere Kursgebühren folgen dem Gedanken der gegenseitigen Unterstützung:\nManche tragen mehr\, damit andere weniger zahlen können – und gemeinsam ermöglichen wir so ein offenes\, vielfältiges Miteinander. Der reguläre Beitrag hilft\, das Tibethaus auf eine stabile Grundlage zu stellen und gleichzeitig Teilhabe für alle zu schaffen.  Ein kleiner Beitrag mit großer Wirkung – herzlichen Dank für eure Solidarität und Verbundenheit. \nErmäßigte Kursgebühren \nUnsere ermäßigten Gebühren richten sich an Menschen mit geringeren finanziellen Möglichkeiten – zum Beispiel Schüler/innen\, Student/innen\, Auszubildende\, Erwerbslose oder Rentner/innen mit kleiner Rente. Wir vertrauen darauf\, dass jede und jeder die passende Gebühr nach den eigenen Möglichkeiten wählt. In Einzelfällen können wir um einen Nachweis bitten.
URL:https://www.tibethaus.com/tb/event/ttm-verstaendnis-1-8/
LOCATION:
CATEGORIES:Heilkunde
ATTACH;FMTTYPE=image/jpeg:https://www.tibethaus.com/wp-content/uploads/Medizinbuddha-Art.-Nr.-795-2023A-Foto-1a-scaled.jpeg
END:VEVENT
BEGIN:VEVENT
DTSTART;TZID=Europe/Berlin:20260427T193000
DTEND;TZID=Europe/Berlin:20260427T210000
DTSTAMP:20260421T143225
CREATED:20251113T170747Z
LAST-MODIFIED:20251113T170747Z
UID:10001451-1777318200-1777323600@www.tibethaus.com
SUMMARY:Stilles Sitzen (nur vor Ort / Offene Meditation)
DESCRIPTION:Leitung | Pierre Gorsegner\n\nIn der Tradition des Zazen (jap. Zen Soto-shu) sitzen wir zwei Einheiten (20 Minuten/30 Minuten)\, unterbrochen von einer Entspannungsübung\, um Energie und Ruhe für die neue Woche zu sammeln. Anmeldung ist nicht erforderlich.\n\nZeit | jeweils 19.30 bis 21 Uhr\n\nIn den Tibethaus-Ferien und an Feiertagen findet die Meditation nicht statt.\n\n\nDie Teilnahme ist gebührenfrei; wir freuen uns über eine Spende für den Buddhismus-Bereich.
URL:https://www.tibethaus.com/tb/event/stilles-sitzen-26/2026-04-27/
LOCATION:Hessen
CATEGORIES:Buddhismus
ATTACH;FMTTYPE=image/jpeg:https://www.tibethaus.com/wp-content/uploads/iStock-1391404962.jpg
END:VEVENT
BEGIN:VEVENT
DTSTART;TZID=Europe/Berlin:20260428T193000
DTEND;TZID=Europe/Berlin:20260428T210000
DTSTAMP:20260421T143225
CREATED:20250321T095232Z
LAST-MODIFIED:20251113T161746Z
UID:10000629-1777404600-1777410000@www.tibethaus.com
SUMMARY:Offene Meditation für Junge Leute
DESCRIPTION:Leitung | Alex Arsoudis\n\n\nViele Menschen denken\, dass (intensive) spirituelle Praxis etwas für das Alter ist\, wenn der Tod naht\, die normalen Lebensprojekte abgeschlossen sind. Der Buddha hat jedoch durch sein eigenes Beispiel gezeigt\, dass die einzige Zeit immer “jetzt” ist\, wann auch immer dieses “jetzt” sein mag. Diese Gruppe richtet sich vor allem an jüngere Personen\, um einen Raum für Gleichgesinnte zu schaffen\, aber jeder ist natürlich willkommen.\n\nAnmeldung und Vorkenntnisse sind nicht erforderlich. Interessierte sind jederzeit willkommen.\n\nZeit | 19.30 bis 21 Uhr\n\n\nIn den Tibethaus-Ferien und an Feiertagen findet die Meditation nicht statt. \nDie Teilnahme ist gebührenfrei; wir freuen uns über eine Spende für den Buddhismus-Bereich.
URL:https://www.tibethaus.com/tb/event/meditation-fuer-junge-leute-reihe-4/2026-04-28/
LOCATION:Hessen
CATEGORIES:Buddhismus
ATTACH;FMTTYPE=image/jpeg:https://www.tibethaus.com/wp-content/uploads/Alex-e1727340278885.jpg
END:VEVENT
BEGIN:VEVENT
DTSTART;TZID=Europe/Berlin:20260429T193000
DTEND;TZID=Europe/Berlin:20260429T203000
DTSTAMP:20260421T143225
CREATED:20251113T161150Z
LAST-MODIFIED:20260129T091138Z
UID:10001419-1777491000-1777494600@www.tibethaus.com
SUMMARY:Offene Meditation (nur vor Ort)
DESCRIPTION:Leitung | Birgit Justl\, Martin Brüger und Pierre Gorsegner\n\n\nAn diesem offenen Abend\, der jeden Mittwoch stattfindet\, praktizieren wir gemeinsam grundlegende buddhistische Meditationen\, die uns zur Ruhe kommen lassen und die die Entwicklung von Achtsamkeit\, Mitgefühl und Erkenntnis fördern. \nIn regelmäßigen Abständen leitet der langjährige Zen-Praktizierende Pierre Gorsegner die Meditation in der Tradition des japanischen Zen Soto-shu an. Die Termine für die Zen Meditationsabende im 1. Halbjahr 2026 sind: 11.02. / 11.03. / 18.03. / 13.04. / 14.05. / 15.06. / 16.07. \nAnmeldung und Vorkenntnisse sind nicht erforderlich. Interessierte sind jederzeit willkommen. \nZeit | jeweils 19.30 bis 20.30 Uhr \nIn den Tibethaus-Ferien und an Feiertagen findet die Meditation nicht statt \nDie Teilnahme ist kostenlos; wir freuen uns über eine Spende für den BuddhismusBereich.
URL:https://www.tibethaus.com/tb/event/offene-meditation-26/2026-04-29/
LOCATION:Hessen
CATEGORIES:Buddhismus
ATTACH;FMTTYPE=image/jpeg:https://www.tibethaus.com/wp-content/uploads/2_00001-scaled.jpg
END:VEVENT
END:VCALENDAR