BEGIN:VCALENDAR
VERSION:2.0
PRODID:-//Tibethaus Deutschland e.V. - ECPv6.15.17.1//NONSGML v1.0//EN
CALSCALE:GREGORIAN
METHOD:PUBLISH
X-ORIGINAL-URL:https://www.tibethaus.com/en/
X-WR-CALDESC:Events for Tibethaus Deutschland e.V.
REFRESH-INTERVAL;VALUE=DURATION:PT1H
X-Robots-Tag:noindex
X-PUBLISHED-TTL:PT1H
BEGIN:VTIMEZONE
TZID:Europe/Berlin
BEGIN:DAYLIGHT
TZOFFSETFROM:+0100
TZOFFSETTO:+0200
TZNAME:CEST
DTSTART:20250330T010000
END:DAYLIGHT
BEGIN:STANDARD
TZOFFSETFROM:+0200
TZOFFSETTO:+0100
TZNAME:CET
DTSTART:20251026T010000
END:STANDARD
BEGIN:DAYLIGHT
TZOFFSETFROM:+0100
TZOFFSETTO:+0200
TZNAME:CEST
DTSTART:20260329T010000
END:DAYLIGHT
BEGIN:STANDARD
TZOFFSETFROM:+0200
TZOFFSETTO:+0100
TZNAME:CET
DTSTART:20261025T010000
END:STANDARD
BEGIN:DAYLIGHT
TZOFFSETFROM:+0100
TZOFFSETTO:+0200
TZNAME:CEST
DTSTART:20270328T010000
END:DAYLIGHT
BEGIN:STANDARD
TZOFFSETFROM:+0200
TZOFFSETTO:+0100
TZNAME:CET
DTSTART:20271031T010000
END:STANDARD
END:VTIMEZONE
BEGIN:VEVENT
DTSTART;TZID=Europe/Berlin:20260530T100000
DTEND;TZID=Europe/Berlin:20260530T180000
DTSTAMP:20260421T232148
CREATED:20251217T150745Z
LAST-MODIFIED:20251217T153622Z
UID:10001465-1780135200-1780164000@www.tibethaus.com
SUMMARY:Einführung in die Tonglen-Meditation - Praxistag (nur vor Ort)
DESCRIPTION:SAMSTAG 30. MAI 2026 \nÜbungstag | Yesche U. Regel  \nFreundlichkeit und Mitgefühl für sich und andere in 5 Schritten entwickeln  \nTonglen ist eine bekannte Meditationsform aus dem Lodjong-Geistestraining des tibetischen Buddhismus. Der Begriff kann übersetzt werden als “Geben und Nehmen”\, besser jedoch als “Aussenden und Annehmen”. Es geht darum für uns oder andere Schwieriges\, Unerwünschtes oder Leidvolles mit Freundlichkeit zu betrachten\, um dafür eine hilfreiche\, zugewandte und mitfühlende Reaktion hervorzubringen\, kurz: Leiden mit Mitgefühl beantworten. \nDie Methode ist eine Übung in Bodhichitta\, dem auf inneres Erwachen ausgerichteten Herzgeistes\, eine Methode für den Bodhisattva-Pfad. Sie wird auf der Grundlage einer sehr bewussten Atmung ausgeführt.  \nYesche U. Regel legt besonderen Wert auf Vorbereitungen für die eigentliche Tonglen-Meditation. Er unterrichtet Tonglen seit über 30 Jahren und hat dazu eine 5-Schritte-Praxis entwickelt\, die er in 2 Büchern* beschrieben und in hunderten von Online-Meditationen\, die als Videos auf YouTube zur Verfügung stehen\, angeleitet.  \nDie 5-Schritte zur Tonglen-Praxis sind:   \n\n Eine Motivation entwickeln\, mehr Mitgefühl für sich und/oder andere zu kultivieren\n Achtsamkeit auf den Körper\, Atem und den eigenen Geisteszustand in Stille üben und dabei eine wache Präsenz entfalten\n Bodhichitta entwickeln\, dazu eine Herzenskraftquelle finden (Visualisation eines Buddha-Aspektes) und damit eine Metta-Herzenswärme-Mediitation ausführen\n Tonglen\, Aussenden und Annehmen\, in Verbindung mit dem Atem als Mitgefühlsübung\, für etwas Leidvolles im eigenen Erleben oder in Beziehung zu anderen\n Die Praxis auflösen und mit guten Wünschen und einer Widmung abschließen.\n\nBei einem Vortrag am Freitagabend und einem Praxistag am Samstag werden wir eine Einführung in diese Praxisschritte erfahren. Bitte beachten: der Praxistag am Samstag findet nur vor Ort im Tibethaus statt. \nBeide Tage sind separat zu buchen.  \n\nUm den Vortrag am Freitagabend zu buchen klicken sie hier. Dieser ist sowohl vor Ort + live online.\n\nAnmeldeschluss ist eine Woche vorher. \nZeit | Samstag 10 bis 18 Uhr (Praxistag mit Mittagspause) \nYesche U. Regel (Jahrgang 1957) begegnete dem Tibetischen Buddhismus im Alter von 20 Jahren\, und ist seitdem mit buddhistischen Zentren in Deutschland verbunden. Er war von 1980-1997 ordinierter Mönch der Karma-Kagyü-Tradition und absolvierte eine Drei-Jahres-Klausur. Seit ca. 1992 unterrichtet er ausgiebig buddhistische Lehren und Meditationen\, zuletzt 21 Jahre lang in einem eigenen Zentrum in Bonn. Er leitet seit 2020 das PARAMITA ONLINE-Programm. http://www.yesche.de  \nBücher:  \n\nMitgefühl für sich\, andere und die Welt (Tonglen-Praxis) – Nymphenburger 2016 \nSelbstmitgefühl durch Tonglen – Nymphenburger 2020 \nüber 800 Videos auf YouTube (nach Themen gruppiert in Playlists) \n\n  \nUnsere Kursgebühren folgen dem Gedanken der gegenseitigen Unterstützung:\nManche tragen mehr\, damit andere weniger zahlen können – und gemeinsam ermöglichen wir so ein offenes\, vielfältiges Miteinander. Der reguläre Beitrag hilft\, das Tibethaus auf eine stabile Grundlage zu stellen und gleichzeitig Teilhabe für alle zu schaffen.  Ein kleiner Beitrag mit großer Wirkung – herzlichen Dank für eure Solidarität und Verbundenheit. \nErmäßigte Kursgebühren \nUnsere ermäßigten Gebühren richten sich an Menschen mit geringeren finanziellen Möglichkeiten – zum Beispiel Schüler/innen\, Student/innen\, Auszubildende\, Erwerbslose oder Rentner/innen mit kleiner Rente. Wir vertrauen darauf\, dass jede und jeder die passende Gebühr nach den eigenen Möglichkeiten wählt. In Einzelfällen können wir um einen Nachweis bitten.
URL:https://www.tibethaus.com/en/event/einfuehrung-in-die-tonglen-meditation-uebungtag/
LOCATION:Tibethaus Deutschland\, Georg-Voigt-Straße 4\, Frankfurt\, Hessen\, 60325
CATEGORIES:Buddhismus
ATTACH;FMTTYPE=image/jpeg:https://www.tibethaus.com/wp-content/uploads/iStock-2167740372.jpg
END:VEVENT
END:VCALENDAR