BEGIN:VCALENDAR
VERSION:2.0
PRODID:-//Tibethaus Deutschland e.V. - ECPv6.15.17.1//NONSGML v1.0//EN
CALSCALE:GREGORIAN
METHOD:PUBLISH
X-WR-CALNAME:Tibethaus Deutschland e.V.
X-ORIGINAL-URL:https://www.tibethaus.com/en/
X-WR-CALDESC:Events for Tibethaus Deutschland e.V.
REFRESH-INTERVAL;VALUE=DURATION:PT1H
X-Robots-Tag:noindex
X-PUBLISHED-TTL:PT1H
BEGIN:VTIMEZONE
TZID:Europe/Berlin
BEGIN:DAYLIGHT
TZOFFSETFROM:+0100
TZOFFSETTO:+0200
TZNAME:CEST
DTSTART:20250330T010000
END:DAYLIGHT
BEGIN:STANDARD
TZOFFSETFROM:+0200
TZOFFSETTO:+0100
TZNAME:CET
DTSTART:20251026T010000
END:STANDARD
BEGIN:DAYLIGHT
TZOFFSETFROM:+0100
TZOFFSETTO:+0200
TZNAME:CEST
DTSTART:20260329T010000
END:DAYLIGHT
BEGIN:STANDARD
TZOFFSETFROM:+0200
TZOFFSETTO:+0100
TZNAME:CET
DTSTART:20261025T010000
END:STANDARD
BEGIN:DAYLIGHT
TZOFFSETFROM:+0100
TZOFFSETTO:+0200
TZNAME:CEST
DTSTART:20270328T010000
END:DAYLIGHT
BEGIN:STANDARD
TZOFFSETFROM:+0200
TZOFFSETTO:+0100
TZNAME:CET
DTSTART:20271031T010000
END:STANDARD
END:VTIMEZONE
BEGIN:VEVENT
DTSTART;TZID=Europe/Berlin:20260601T193000
DTEND;TZID=Europe/Berlin:20260601T210000
DTSTAMP:20260422T021601
CREATED:20251113T170747Z
LAST-MODIFIED:20251113T170747Z
UID:10001455-1780342200-1780347600@www.tibethaus.com
SUMMARY:Stilles Sitzen (nur vor Ort / Offene Meditation)
DESCRIPTION:Leitung | Pierre Gorsegner\n\nIn der Tradition des Zazen (jap. Zen Soto-shu) sitzen wir zwei Einheiten (20 Minuten/30 Minuten)\, unterbrochen von einer Entspannungsübung\, um Energie und Ruhe für die neue Woche zu sammeln. Anmeldung ist nicht erforderlich.\n\nZeit | jeweils 19.30 bis 21 Uhr\n\nIn den Tibethaus-Ferien und an Feiertagen findet die Meditation nicht statt.\n\n\nDie Teilnahme ist gebührenfrei; wir freuen uns über eine Spende für den Buddhismus-Bereich.
URL:https://www.tibethaus.com/en/event/stilles-sitzen-26/2026-06-01/
LOCATION:Hessen
CATEGORIES:Buddhismus
ATTACH;FMTTYPE=image/jpeg:https://www.tibethaus.com/wp-content/uploads/iStock-1391404962.jpg
END:VEVENT
BEGIN:VEVENT
DTSTART;TZID=Europe/Berlin:20260602T193000
DTEND;TZID=Europe/Berlin:20260602T210000
DTSTAMP:20260422T021601
CREATED:20250321T095232Z
LAST-MODIFIED:20251113T161746Z
UID:10000634-1780428600-1780434000@www.tibethaus.com
SUMMARY:Offene Meditation für Junge Leute
DESCRIPTION:Leitung | Alex Arsoudis\n\n\nViele Menschen denken\, dass (intensive) spirituelle Praxis etwas für das Alter ist\, wenn der Tod naht\, die normalen Lebensprojekte abgeschlossen sind. Der Buddha hat jedoch durch sein eigenes Beispiel gezeigt\, dass die einzige Zeit immer “jetzt” ist\, wann auch immer dieses “jetzt” sein mag. Diese Gruppe richtet sich vor allem an jüngere Personen\, um einen Raum für Gleichgesinnte zu schaffen\, aber jeder ist natürlich willkommen.\n\nAnmeldung und Vorkenntnisse sind nicht erforderlich. Interessierte sind jederzeit willkommen.\n\nZeit | 19.30 bis 21 Uhr\n\n\nIn den Tibethaus-Ferien und an Feiertagen findet die Meditation nicht statt. \nDie Teilnahme ist gebührenfrei; wir freuen uns über eine Spende für den Buddhismus-Bereich.
URL:https://www.tibethaus.com/en/event/meditation-fuer-junge-leute-reihe-4/2026-06-02/
LOCATION:Hessen
CATEGORIES:Buddhismus
ATTACH;FMTTYPE=image/jpeg:https://www.tibethaus.com/wp-content/uploads/Alex-e1727340278885.jpg
END:VEVENT
BEGIN:VEVENT
DTSTART;TZID=Europe/Berlin:20260603T193000
DTEND;TZID=Europe/Berlin:20260603T203000
DTSTAMP:20260422T021601
CREATED:20251113T161150Z
LAST-MODIFIED:20260129T091138Z
UID:10001424-1780515000-1780518600@www.tibethaus.com
SUMMARY:Offene Meditation (nur vor Ort)
DESCRIPTION:Leitung | Birgit Justl\, Martin Brüger und Pierre Gorsegner\n\n\nAn diesem offenen Abend\, der jeden Mittwoch stattfindet\, praktizieren wir gemeinsam grundlegende buddhistische Meditationen\, die uns zur Ruhe kommen lassen und die die Entwicklung von Achtsamkeit\, Mitgefühl und Erkenntnis fördern. \nIn regelmäßigen Abständen leitet der langjährige Zen-Praktizierende Pierre Gorsegner die Meditation in der Tradition des japanischen Zen Soto-shu an. Die Termine für die Zen Meditationsabende im 1. Halbjahr 2026 sind: 11.02. / 11.03. / 18.03. / 13.04. / 14.05. / 15.06. / 16.07. \nAnmeldung und Vorkenntnisse sind nicht erforderlich. Interessierte sind jederzeit willkommen. \nZeit | jeweils 19.30 bis 20.30 Uhr \nIn den Tibethaus-Ferien und an Feiertagen findet die Meditation nicht statt \nDie Teilnahme ist kostenlos; wir freuen uns über eine Spende für den BuddhismusBereich.
URL:https://www.tibethaus.com/en/event/offene-meditation-26/2026-06-03/
LOCATION:Hessen
CATEGORIES:Buddhismus
ATTACH;FMTTYPE=image/jpeg:https://www.tibethaus.com/wp-content/uploads/2_00001-scaled.jpg
END:VEVENT
BEGIN:VEVENT
DTSTART;TZID=Europe/Berlin:20260608T193000
DTEND;TZID=Europe/Berlin:20260608T210000
DTSTAMP:20260422T021601
CREATED:20251113T170747Z
LAST-MODIFIED:20251113T170747Z
UID:10001456-1780947000-1780952400@www.tibethaus.com
SUMMARY:Stilles Sitzen (nur vor Ort / Offene Meditation)
DESCRIPTION:Leitung | Pierre Gorsegner\n\nIn der Tradition des Zazen (jap. Zen Soto-shu) sitzen wir zwei Einheiten (20 Minuten/30 Minuten)\, unterbrochen von einer Entspannungsübung\, um Energie und Ruhe für die neue Woche zu sammeln. Anmeldung ist nicht erforderlich.\n\nZeit | jeweils 19.30 bis 21 Uhr\n\nIn den Tibethaus-Ferien und an Feiertagen findet die Meditation nicht statt.\n\n\nDie Teilnahme ist gebührenfrei; wir freuen uns über eine Spende für den Buddhismus-Bereich.
URL:https://www.tibethaus.com/en/event/stilles-sitzen-26/2026-06-08/
LOCATION:Hessen
CATEGORIES:Buddhismus
ATTACH;FMTTYPE=image/jpeg:https://www.tibethaus.com/wp-content/uploads/iStock-1391404962.jpg
END:VEVENT
BEGIN:VEVENT
DTSTART;TZID=Europe/Berlin:20260609T193000
DTEND;TZID=Europe/Berlin:20260609T210000
DTSTAMP:20260422T021601
CREATED:20250321T095232Z
LAST-MODIFIED:20251113T161746Z
UID:10000635-1781033400-1781038800@www.tibethaus.com
SUMMARY:Offene Meditation für Junge Leute
DESCRIPTION:Leitung | Alex Arsoudis\n\n\nViele Menschen denken\, dass (intensive) spirituelle Praxis etwas für das Alter ist\, wenn der Tod naht\, die normalen Lebensprojekte abgeschlossen sind. Der Buddha hat jedoch durch sein eigenes Beispiel gezeigt\, dass die einzige Zeit immer “jetzt” ist\, wann auch immer dieses “jetzt” sein mag. Diese Gruppe richtet sich vor allem an jüngere Personen\, um einen Raum für Gleichgesinnte zu schaffen\, aber jeder ist natürlich willkommen.\n\nAnmeldung und Vorkenntnisse sind nicht erforderlich. Interessierte sind jederzeit willkommen.\n\nZeit | 19.30 bis 21 Uhr\n\n\nIn den Tibethaus-Ferien und an Feiertagen findet die Meditation nicht statt. \nDie Teilnahme ist gebührenfrei; wir freuen uns über eine Spende für den Buddhismus-Bereich.
URL:https://www.tibethaus.com/en/event/meditation-fuer-junge-leute-reihe-4/2026-06-09/
LOCATION:Hessen
CATEGORIES:Buddhismus
ATTACH;FMTTYPE=image/jpeg:https://www.tibethaus.com/wp-content/uploads/Alex-e1727340278885.jpg
END:VEVENT
BEGIN:VEVENT
DTSTART;TZID=Europe/Berlin:20260610T193000
DTEND;TZID=Europe/Berlin:20260610T203000
DTSTAMP:20260422T021602
CREATED:20251113T161150Z
LAST-MODIFIED:20260129T091138Z
UID:10001425-1781119800-1781123400@www.tibethaus.com
SUMMARY:Offene Meditation (nur vor Ort)
DESCRIPTION:Leitung | Birgit Justl\, Martin Brüger und Pierre Gorsegner\n\n\nAn diesem offenen Abend\, der jeden Mittwoch stattfindet\, praktizieren wir gemeinsam grundlegende buddhistische Meditationen\, die uns zur Ruhe kommen lassen und die die Entwicklung von Achtsamkeit\, Mitgefühl und Erkenntnis fördern. \nIn regelmäßigen Abständen leitet der langjährige Zen-Praktizierende Pierre Gorsegner die Meditation in der Tradition des japanischen Zen Soto-shu an. Die Termine für die Zen Meditationsabende im 1. Halbjahr 2026 sind: 11.02. / 11.03. / 18.03. / 13.04. / 14.05. / 15.06. / 16.07. \nAnmeldung und Vorkenntnisse sind nicht erforderlich. Interessierte sind jederzeit willkommen. \nZeit | jeweils 19.30 bis 20.30 Uhr \nIn den Tibethaus-Ferien und an Feiertagen findet die Meditation nicht statt \nDie Teilnahme ist kostenlos; wir freuen uns über eine Spende für den BuddhismusBereich.
URL:https://www.tibethaus.com/en/event/offene-meditation-26/2026-06-10/
LOCATION:Hessen
CATEGORIES:Buddhismus
ATTACH;FMTTYPE=image/jpeg:https://www.tibethaus.com/wp-content/uploads/2_00001-scaled.jpg
END:VEVENT
BEGIN:VEVENT
DTSTART;TZID=Europe/Berlin:20260615T193000
DTEND;TZID=Europe/Berlin:20260615T210000
DTSTAMP:20260422T021602
CREATED:20251113T170747Z
LAST-MODIFIED:20251113T170747Z
UID:10001457-1781551800-1781557200@www.tibethaus.com
SUMMARY:Stilles Sitzen (nur vor Ort / Offene Meditation)
DESCRIPTION:Leitung | Pierre Gorsegner\n\nIn der Tradition des Zazen (jap. Zen Soto-shu) sitzen wir zwei Einheiten (20 Minuten/30 Minuten)\, unterbrochen von einer Entspannungsübung\, um Energie und Ruhe für die neue Woche zu sammeln. Anmeldung ist nicht erforderlich.\n\nZeit | jeweils 19.30 bis 21 Uhr\n\nIn den Tibethaus-Ferien und an Feiertagen findet die Meditation nicht statt.\n\n\nDie Teilnahme ist gebührenfrei; wir freuen uns über eine Spende für den Buddhismus-Bereich.
URL:https://www.tibethaus.com/en/event/stilles-sitzen-26/2026-06-15/
LOCATION:Hessen
CATEGORIES:Buddhismus
ATTACH;FMTTYPE=image/jpeg:https://www.tibethaus.com/wp-content/uploads/iStock-1391404962.jpg
END:VEVENT
BEGIN:VEVENT
DTSTART;TZID=Europe/Berlin:20260616T193000
DTEND;TZID=Europe/Berlin:20260616T210000
DTSTAMP:20260422T021602
CREATED:20250321T095232Z
LAST-MODIFIED:20251113T161746Z
UID:10000636-1781638200-1781643600@www.tibethaus.com
SUMMARY:Offene Meditation für Junge Leute
DESCRIPTION:Leitung | Alex Arsoudis\n\n\nViele Menschen denken\, dass (intensive) spirituelle Praxis etwas für das Alter ist\, wenn der Tod naht\, die normalen Lebensprojekte abgeschlossen sind. Der Buddha hat jedoch durch sein eigenes Beispiel gezeigt\, dass die einzige Zeit immer “jetzt” ist\, wann auch immer dieses “jetzt” sein mag. Diese Gruppe richtet sich vor allem an jüngere Personen\, um einen Raum für Gleichgesinnte zu schaffen\, aber jeder ist natürlich willkommen.\n\nAnmeldung und Vorkenntnisse sind nicht erforderlich. Interessierte sind jederzeit willkommen.\n\nZeit | 19.30 bis 21 Uhr\n\n\nIn den Tibethaus-Ferien und an Feiertagen findet die Meditation nicht statt. \nDie Teilnahme ist gebührenfrei; wir freuen uns über eine Spende für den Buddhismus-Bereich.
URL:https://www.tibethaus.com/en/event/meditation-fuer-junge-leute-reihe-4/2026-06-16/
LOCATION:Hessen
CATEGORIES:Buddhismus
ATTACH;FMTTYPE=image/jpeg:https://www.tibethaus.com/wp-content/uploads/Alex-e1727340278885.jpg
END:VEVENT
BEGIN:VEVENT
DTSTART;TZID=Europe/Berlin:20260617T193000
DTEND;TZID=Europe/Berlin:20260617T203000
DTSTAMP:20260422T021602
CREATED:20251113T161150Z
LAST-MODIFIED:20260129T091138Z
UID:10001426-1781724600-1781728200@www.tibethaus.com
SUMMARY:Offene Meditation (nur vor Ort)
DESCRIPTION:Leitung | Birgit Justl\, Martin Brüger und Pierre Gorsegner\n\n\nAn diesem offenen Abend\, der jeden Mittwoch stattfindet\, praktizieren wir gemeinsam grundlegende buddhistische Meditationen\, die uns zur Ruhe kommen lassen und die die Entwicklung von Achtsamkeit\, Mitgefühl und Erkenntnis fördern. \nIn regelmäßigen Abständen leitet der langjährige Zen-Praktizierende Pierre Gorsegner die Meditation in der Tradition des japanischen Zen Soto-shu an. Die Termine für die Zen Meditationsabende im 1. Halbjahr 2026 sind: 11.02. / 11.03. / 18.03. / 13.04. / 14.05. / 15.06. / 16.07. \nAnmeldung und Vorkenntnisse sind nicht erforderlich. Interessierte sind jederzeit willkommen. \nZeit | jeweils 19.30 bis 20.30 Uhr \nIn den Tibethaus-Ferien und an Feiertagen findet die Meditation nicht statt \nDie Teilnahme ist kostenlos; wir freuen uns über eine Spende für den BuddhismusBereich.
URL:https://www.tibethaus.com/en/event/offene-meditation-26/2026-06-17/
LOCATION:Hessen
CATEGORIES:Buddhismus
ATTACH;FMTTYPE=image/jpeg:https://www.tibethaus.com/wp-content/uploads/2_00001-scaled.jpg
END:VEVENT
BEGIN:VEVENT
DTSTART;TZID=Europe/Berlin:20260620T100000
DTEND;TZID=Europe/Berlin:20260621T130000
DTSTAMP:20260422T021602
CREATED:20251016T101239Z
LAST-MODIFIED:20251112T135648Z
UID:10000919-1781949600-1782046800@www.tibethaus.com
SUMMARY:Deep Dive Dharma – Praxiswochenende - Weisheit mittels Dekonstruktion (vor Ort und live online)
DESCRIPTION:Leitung | Bhikshu Tenzin Peljor \nAn sechs Wochenenden gibt es die Möglichkeit\, gemeinsam in vertiefende Meditationspraktiken einzutauchen. \nJedes Wochenende steht unter einem thematischen Schwerpunkt\, der durch angeleitete Meditationen erfahrbar gemacht wird. So kann das Gehörte in die eigene Praxis „einsinken“ und zu tieferer Einsicht führen. Ergänzend werden die theoretischen Hintergründe klar vermittelt\, und es gibt Raum für Austausch und Diskussion\, um die Übungen nachhaltig im Alltag zu verankern. \nDie Wochenenden können einzeln oder als Reihe gebucht werden und richten sich an Meditierende\, die ihre Praxis stabilisieren und vertiefen möchten – besonders an Teilnehmende von Lamrim-\, Lojong- und Lorig-Kursen.\nDie letzten beiden Wochenenden sind fortgeschritten und setzen innere Stabilität und regelmäßige Meditationspraxis voraus. Bei Unsicherheiten zur Teilnahme beraten wir gerne. \n6. Wochenende – Weisheit mittels Dekonstruktion \nMeditationen über die Natur von Gedanken\, Geist und Ich.\nStufenweise Praxis nach dem frühen Buddhismus: über unbegrenzten Raum\, Bewusstsein und Nichts bis zur Einsicht in die Leerheit (śūnyatā). Übungen zur Dekonstruktion des Selbst lockern das Festhalten an starren Ich-Vorstellungen. \nZeit | Samstag 10 bis 18 Uhr und Sonntag 9.30 bis 13 Uhr \nBitte geben sie beim Checkout unter “Anmerkungen” an\, ob sie Vor Ort oder Online teilnehmen. \nFür Personen mit geringen finanziellen Mitteln ist die Teilnahme auf Spendenbasis möglich. Bitte schreiben sie an info@tibethaus.com \nBhikshu Tenzin Peljor studiert und praktiziert Buddhismus seit 1996\, wurde 2006 von S. H. dem Dalai Lama vollordiniert. Absolvent des Buddhismus-Studiums im Master Programm im Lama Tsongkhapa Institut\, Italien. Unterrichtet Buddhismus und Meditation seit 20 Jahren. Sozial engagiert. \n  \nUnsere Kursgebühren folgen dem Gedanken der gegenseitigen Unterstützung:\nManche tragen mehr\, damit andere weniger zahlen können – und gemeinsam ermöglichen wir so ein offenes\, vielfältiges Miteinander. Der reguläre Beitrag hilft\, das Tibethaus auf eine stabile Grundlage zu stellen und gleichzeitig Teilhabe für alle zu schaffen.  Ein kleiner Beitrag mit großer Wirkung – herzlichen Dank für eure Solidarität und Verbundenheit. \nErmäßigte Kursgebühren \nUnsere ermäßigten Gebühren richten sich an Menschen mit geringeren finanziellen Möglichkeiten – zum Beispiel Schüler/innen\, Student/innen\, Auszubildende\, Erwerbslose oder Rentner/innen mit kleiner Rente. Wir vertrauen darauf\, dass jede und jeder die passende Gebühr nach den eigenen Möglichkeiten wählt. In Einzelfällen können wir um einen Nachweis bitten.
URL:https://www.tibethaus.com/en/event/deep-dive-dharma-praxiswochenende6/
LOCATION:
CATEGORIES:Buddhismus
ATTACH;FMTTYPE=image/jpeg:https://www.tibethaus.com/wp-content/uploads/image0.jpeg
END:VEVENT
BEGIN:VEVENT
DTSTART;TZID=Europe/Berlin:20260622T193000
DTEND;TZID=Europe/Berlin:20260622T210000
DTSTAMP:20260422T021602
CREATED:20251113T170747Z
LAST-MODIFIED:20251113T170747Z
UID:10001458-1782156600-1782162000@www.tibethaus.com
SUMMARY:Stilles Sitzen (nur vor Ort / Offene Meditation)
DESCRIPTION:Leitung | Pierre Gorsegner\n\nIn der Tradition des Zazen (jap. Zen Soto-shu) sitzen wir zwei Einheiten (20 Minuten/30 Minuten)\, unterbrochen von einer Entspannungsübung\, um Energie und Ruhe für die neue Woche zu sammeln. Anmeldung ist nicht erforderlich.\n\nZeit | jeweils 19.30 bis 21 Uhr\n\nIn den Tibethaus-Ferien und an Feiertagen findet die Meditation nicht statt.\n\n\nDie Teilnahme ist gebührenfrei; wir freuen uns über eine Spende für den Buddhismus-Bereich.
URL:https://www.tibethaus.com/en/event/stilles-sitzen-26/2026-06-22/
LOCATION:Hessen
CATEGORIES:Buddhismus
ATTACH;FMTTYPE=image/jpeg:https://www.tibethaus.com/wp-content/uploads/iStock-1391404962.jpg
END:VEVENT
BEGIN:VEVENT
DTSTART;TZID=Europe/Berlin:20260623T193000
DTEND;TZID=Europe/Berlin:20260623T210000
DTSTAMP:20260422T021602
CREATED:20250321T095232Z
LAST-MODIFIED:20251113T161746Z
UID:10000637-1782243000-1782248400@www.tibethaus.com
SUMMARY:Offene Meditation für Junge Leute
DESCRIPTION:Leitung | Alex Arsoudis\n\n\nViele Menschen denken\, dass (intensive) spirituelle Praxis etwas für das Alter ist\, wenn der Tod naht\, die normalen Lebensprojekte abgeschlossen sind. Der Buddha hat jedoch durch sein eigenes Beispiel gezeigt\, dass die einzige Zeit immer “jetzt” ist\, wann auch immer dieses “jetzt” sein mag. Diese Gruppe richtet sich vor allem an jüngere Personen\, um einen Raum für Gleichgesinnte zu schaffen\, aber jeder ist natürlich willkommen.\n\nAnmeldung und Vorkenntnisse sind nicht erforderlich. Interessierte sind jederzeit willkommen.\n\nZeit | 19.30 bis 21 Uhr\n\n\nIn den Tibethaus-Ferien und an Feiertagen findet die Meditation nicht statt. \nDie Teilnahme ist gebührenfrei; wir freuen uns über eine Spende für den Buddhismus-Bereich.
URL:https://www.tibethaus.com/en/event/meditation-fuer-junge-leute-reihe-4/2026-06-23/
LOCATION:Hessen
CATEGORIES:Buddhismus
ATTACH;FMTTYPE=image/jpeg:https://www.tibethaus.com/wp-content/uploads/Alex-e1727340278885.jpg
END:VEVENT
BEGIN:VEVENT
DTSTART;TZID=Europe/Berlin:20260624T193000
DTEND;TZID=Europe/Berlin:20260624T203000
DTSTAMP:20260422T021602
CREATED:20251113T161150Z
LAST-MODIFIED:20260129T091138Z
UID:10001427-1782329400-1782333000@www.tibethaus.com
SUMMARY:Offene Meditation (nur vor Ort)
DESCRIPTION:Leitung | Birgit Justl\, Martin Brüger und Pierre Gorsegner\n\n\nAn diesem offenen Abend\, der jeden Mittwoch stattfindet\, praktizieren wir gemeinsam grundlegende buddhistische Meditationen\, die uns zur Ruhe kommen lassen und die die Entwicklung von Achtsamkeit\, Mitgefühl und Erkenntnis fördern. \nIn regelmäßigen Abständen leitet der langjährige Zen-Praktizierende Pierre Gorsegner die Meditation in der Tradition des japanischen Zen Soto-shu an. Die Termine für die Zen Meditationsabende im 1. Halbjahr 2026 sind: 11.02. / 11.03. / 18.03. / 13.04. / 14.05. / 15.06. / 16.07. \nAnmeldung und Vorkenntnisse sind nicht erforderlich. Interessierte sind jederzeit willkommen. \nZeit | jeweils 19.30 bis 20.30 Uhr \nIn den Tibethaus-Ferien und an Feiertagen findet die Meditation nicht statt \nDie Teilnahme ist kostenlos; wir freuen uns über eine Spende für den BuddhismusBereich.
URL:https://www.tibethaus.com/en/event/offene-meditation-26/2026-06-24/
LOCATION:Hessen
CATEGORIES:Buddhismus
ATTACH;FMTTYPE=image/jpeg:https://www.tibethaus.com/wp-content/uploads/2_00001-scaled.jpg
END:VEVENT
BEGIN:VEVENT
DTSTART;TZID=Europe/Berlin:20260629T193000
DTEND;TZID=Europe/Berlin:20260629T210000
DTSTAMP:20260422T021602
CREATED:20251113T170747Z
LAST-MODIFIED:20251113T170747Z
UID:10001459-1782761400-1782766800@www.tibethaus.com
SUMMARY:Stilles Sitzen (nur vor Ort / Offene Meditation)
DESCRIPTION:Leitung | Pierre Gorsegner\n\nIn der Tradition des Zazen (jap. Zen Soto-shu) sitzen wir zwei Einheiten (20 Minuten/30 Minuten)\, unterbrochen von einer Entspannungsübung\, um Energie und Ruhe für die neue Woche zu sammeln. Anmeldung ist nicht erforderlich.\n\nZeit | jeweils 19.30 bis 21 Uhr\n\nIn den Tibethaus-Ferien und an Feiertagen findet die Meditation nicht statt.\n\n\nDie Teilnahme ist gebührenfrei; wir freuen uns über eine Spende für den Buddhismus-Bereich.
URL:https://www.tibethaus.com/en/event/stilles-sitzen-26/2026-06-29/
LOCATION:Hessen
CATEGORIES:Buddhismus
ATTACH;FMTTYPE=image/jpeg:https://www.tibethaus.com/wp-content/uploads/iStock-1391404962.jpg
END:VEVENT
BEGIN:VEVENT
DTSTART;TZID=Europe/Berlin:20260630T193000
DTEND;TZID=Europe/Berlin:20260630T210000
DTSTAMP:20260422T021602
CREATED:20250321T095232Z
LAST-MODIFIED:20251113T161746Z
UID:10000638-1782847800-1782853200@www.tibethaus.com
SUMMARY:Offene Meditation für Junge Leute
DESCRIPTION:Leitung | Alex Arsoudis\n\n\nViele Menschen denken\, dass (intensive) spirituelle Praxis etwas für das Alter ist\, wenn der Tod naht\, die normalen Lebensprojekte abgeschlossen sind. Der Buddha hat jedoch durch sein eigenes Beispiel gezeigt\, dass die einzige Zeit immer “jetzt” ist\, wann auch immer dieses “jetzt” sein mag. Diese Gruppe richtet sich vor allem an jüngere Personen\, um einen Raum für Gleichgesinnte zu schaffen\, aber jeder ist natürlich willkommen.\n\nAnmeldung und Vorkenntnisse sind nicht erforderlich. Interessierte sind jederzeit willkommen.\n\nZeit | 19.30 bis 21 Uhr\n\n\nIn den Tibethaus-Ferien und an Feiertagen findet die Meditation nicht statt. \nDie Teilnahme ist gebührenfrei; wir freuen uns über eine Spende für den Buddhismus-Bereich.
URL:https://www.tibethaus.com/en/event/meditation-fuer-junge-leute-reihe-4/2026-06-30/
LOCATION:Hessen
CATEGORIES:Buddhismus
ATTACH;FMTTYPE=image/jpeg:https://www.tibethaus.com/wp-content/uploads/Alex-e1727340278885.jpg
END:VEVENT
END:VCALENDAR