BEGIN:VCALENDAR
VERSION:2.0
PRODID:-//Tibethaus Deutschland e.V. - ECPv6.15.17.1//NONSGML v1.0//EN
CALSCALE:GREGORIAN
METHOD:PUBLISH
X-WR-CALNAME:Tibethaus Deutschland e.V.
X-ORIGINAL-URL:https://www.tibethaus.com/en/
X-WR-CALDESC:Events for Tibethaus Deutschland e.V.
REFRESH-INTERVAL;VALUE=DURATION:PT1H
X-Robots-Tag:noindex
X-PUBLISHED-TTL:PT1H
BEGIN:VTIMEZONE
TZID:Europe/Berlin
BEGIN:DAYLIGHT
TZOFFSETFROM:+0100
TZOFFSETTO:+0200
TZNAME:CEST
DTSTART:20230326T010000
END:DAYLIGHT
BEGIN:STANDARD
TZOFFSETFROM:+0200
TZOFFSETTO:+0100
TZNAME:CET
DTSTART:20231029T010000
END:STANDARD
BEGIN:DAYLIGHT
TZOFFSETFROM:+0100
TZOFFSETTO:+0200
TZNAME:CEST
DTSTART:20240331T010000
END:DAYLIGHT
BEGIN:STANDARD
TZOFFSETFROM:+0200
TZOFFSETTO:+0100
TZNAME:CET
DTSTART:20241027T010000
END:STANDARD
BEGIN:DAYLIGHT
TZOFFSETFROM:+0100
TZOFFSETTO:+0200
TZNAME:CEST
DTSTART:20250330T010000
END:DAYLIGHT
BEGIN:STANDARD
TZOFFSETFROM:+0200
TZOFFSETTO:+0100
TZNAME:CET
DTSTART:20251026T010000
END:STANDARD
END:VTIMEZONE
BEGIN:VEVENT
DTSTART;TZID=Europe/Berlin:20240109T183000
DTEND;TZID=Europe/Berlin:20240109T210000
DTSTAMP:20260422T152512
CREATED:20231130T141704Z
LAST-MODIFIED:20231215T154453Z
UID:10000239-1704825000-1704834000@www.tibethaus.com
SUMMARY:MBSR-8-Wochen Kurs (Beginn) Kurs 1_2024 (nur vor Ort)
DESCRIPTION:Kursleitung | Heike Merkle \nMBSR (Mindfulness-Based Stress Reduction) Stressbewältigung durch Achtsamkeit nach Prof. Dr. Jon Kabat-Zinn \nAchtsamkeit ist das ruhige und gelassene Wahrnehmen von allem\, was um und in uns auftaucht. Sich dabei von Gedanken und Verhaltensmustern freizumachen\, hilft Blockaden zu überwinden\, Stress abzubauen und besser mit Ängsten und Schmerzen umzugehen. MBSR hilft Menschen\, die nach effektiven Methoden der Stressbewältigung suchen\, die unter Beschwerden als Folge von Überbelastung leiden\, bewusster leben oder einen aktiven Beitrag zum Erhalt ihrer Gesundheit und inneren Balance leisten möchten. \nZeit | jeweils 18.30 bis 21 Uhr \nRegulär 410 Euro | Mitglieder 360 Euro | Ermäßigter Preis auf Anfrage \nAnmeldeschluss ist eine Woche vorher. \nFolgende Termine sind vorgesehen: 9.1.\, 16.1.\, 23.1.\, 30.1.\, 6.2.\, 13.2.\, 20.2.\, 27.2. sowie ein Achtsamkeitstag am 18.2.2024 von 10 bis 16 Uhr. \nBITTE BEACHTEN: Sie erhalten ein kostenloses Anmeldeformular. Nach Bearbeitung und wenn alle Kriterien erfüllt sind kommt es zu einer Anmeldung.
URL:https://www.tibethaus.com/en/event/mbsr-8-wochen-kurs-beginn-kurs-1_2024-nur-vor-ort/
LOCATION:Tibethaus Deutschland\, Georg-Voigt-Straße 4\, Frankfurt\, Hessen\, 60325
CATEGORIES:Persönlichkeit
ATTACH;FMTTYPE=image/jpeg:https://www.tibethaus.com/wp-content/uploads/1Heike_Merkle_002-Kopie-scaled.jpg
END:VEVENT
END:VCALENDAR