BEGIN:VCALENDAR
VERSION:2.0
PRODID:-//Tibethaus Deutschland e.V. - ECPv6.15.17.1//NONSGML v1.0//EN
CALSCALE:GREGORIAN
METHOD:PUBLISH
X-ORIGINAL-URL:https://www.tibethaus.com
X-WR-CALDESC:Veranstaltungen für Tibethaus Deutschland e.V.
REFRESH-INTERVAL;VALUE=DURATION:PT1H
X-Robots-Tag:noindex
X-PUBLISHED-TTL:PT1H
BEGIN:VTIMEZONE
TZID:Europe/Berlin
BEGIN:DAYLIGHT
TZOFFSETFROM:+0100
TZOFFSETTO:+0200
TZNAME:CEST
DTSTART:20240331T010000
END:DAYLIGHT
BEGIN:STANDARD
TZOFFSETFROM:+0200
TZOFFSETTO:+0100
TZNAME:CET
DTSTART:20241027T010000
END:STANDARD
BEGIN:DAYLIGHT
TZOFFSETFROM:+0100
TZOFFSETTO:+0200
TZNAME:CEST
DTSTART:20250330T010000
END:DAYLIGHT
BEGIN:STANDARD
TZOFFSETFROM:+0200
TZOFFSETTO:+0100
TZNAME:CET
DTSTART:20251026T010000
END:STANDARD
BEGIN:DAYLIGHT
TZOFFSETFROM:+0100
TZOFFSETTO:+0200
TZNAME:CEST
DTSTART:20260329T010000
END:DAYLIGHT
BEGIN:STANDARD
TZOFFSETFROM:+0200
TZOFFSETTO:+0100
TZNAME:CET
DTSTART:20261025T010000
END:STANDARD
END:VTIMEZONE
BEGIN:VEVENT
DTSTART;TZID=Europe/Berlin:20250324T190000
DTEND;TZID=Europe/Berlin:20250324T210000
DTSTAMP:20260422T025225
CREATED:20250115T095707Z
LAST-MODIFIED:20250314T131111Z
UID:10000510-1742842800-1742850000@www.tibethaus.com
SUMMARY:ABGESAGT Öffentlicher Vortrag mit Seiner Eminenz Menri Lopön Rinpoche (Vor Ort + Online)
DESCRIPTION:Öffentlicher Vortrag | von S.E. Menri Lopön Rinpoche Zhang Zhung Nyen Gyu aus der Yungdrung Bön Tradition Dzogchen\, als eine der tiefsten und umfassendsten Lehren innerhalb der Yungdrung Bön Tradition\, zielt darauf ab\, das wahre Wesen des Geistes zu erkennen und die natürliche\, ungeteilte Realität zu erfahren. Diese Praxis hebt sich durch ihre Betonung der unmittelbaren Erfahrung über intellektuelles Verständnis hervor. Die mündliche Übertragungslinie aus Zhang Zhung ist dabei besonders bedeutend\, da sie in ungebrochener Übertragungslinie seit alter Zeit nur direkt von Meister zu Schüler weitergegeben wird und so die Authentizität der Lehre bewahrt wurde. Praktizierende werden in verschiedenen Aspekten geschult\, darunter die Meditation\, die Einsicht in die Natur des Geistes und die Integration dieser Einsichten in den Alltag. Dzogchen lehrt\, dass jeder Mensch bereits das Potenzial zur Befreiung in sich trägt\, und dass es darum geht\, dieses Potenzial zu erkennen und zu verwirklichen. Rinpoche wird uns\, in Aussicht auf das Retreat im Retreathaus Berghof vom 27.-30.03.2025 mit Inhalten aus dem Zhang Zhung Nyen Gyu\, in seinem Abendvortrag einen Einblick in die Yungdrung Bön Tradition und diese besondere Übertragungslinie geben. Mehr über Rinpoche erfahren Der Vortrag wird vom Englischen ins Deutsche übersetzt. Kooperationsveranstaltung von Ligmincha Deutschland e.V. und Tibethaus Deutschland e.V.   Bitte geben sie beim Checkout unter „Anmerkungen“ an\, ob sie Vor Ort oder Online teilnehmen.
URL:https://www.tibethaus.com/event/oef-seiner-eminenz-menri-lopoen-rinpoche/
LOCATION:Tibethaus Deutschland\, Georg-Voigt-Straße 4\, Frankfurt\, Hessen\, 60325
CATEGORIES:Buddhismus
END:VEVENT
BEGIN:VEVENT
DTSTART;TZID=Europe/Berlin:20250324T193000
DTEND;TZID=Europe/Berlin:20250324T210000
DTSTAMP:20260422T025225
CREATED:20240820T091407Z
LAST-MODIFIED:20250224T092229Z
UID:10000545-1742844600-1742850000@www.tibethaus.com
SUMMARY:Stilles Sitzen (nur vor Ort)
DESCRIPTION:Leitung | Pierre Gorsegner\n\nIn der Tradition des Zazen (jap. Zen Soto-shu) sitzen wir zwei Einheiten (20 Minuten/30 Minuten)\, unterbrochen von einer Entspannungsübung\, um Energie und Ruhe für die neue Woche zu sammeln. Anmeldung ist nicht erforderlich.\n\nZeit | jeweils 19.30 bis 21 Uhr\n\nDie Meditationssitzung fällt am 10.03. und am 07.04. aus. \n\nIn den Tibethaus-Ferien und an Feiertagen findet die Meditation nicht statt.\n\n\nDie Teilnahme ist gebührenfrei; wir freuen uns über eine Spende für den Buddhismus-Bereich.
URL:https://www.tibethaus.com/event/stilles-sitzen-nur-vor-ort-reihe/2025-03-24/
LOCATION:Hessen
CATEGORIES:Buddhismus
ATTACH;FMTTYPE=image/jpeg:https://www.tibethaus.com/wp-content/uploads/iStock-1391404962.jpg
END:VEVENT
BEGIN:VEVENT
DTSTART;TZID=Europe/Berlin:20250325T193000
DTEND;TZID=Europe/Berlin:20250325T210000
DTSTAMP:20260422T025225
CREATED:20250117T102437Z
LAST-MODIFIED:20250117T102437Z
UID:10000521-1742931000-1742936400@www.tibethaus.com
SUMMARY:Meditation für Junge Leute
DESCRIPTION:Leitung | Alex Arsoudis\n\n\nViele Menschen denken\, dass (intensive) spirituelle Praxis etwas für das Alter ist\, wenn der Tod naht\, die normalen Lebensprojekte abgeschlossen sind. Der Buddha hat jedoch durch sein eigenes Beispiel gezeigt\, dass die einzige Zeit immer “jetzt” ist\, wann auch immer dieses “jetzt” sein mag. Diese Gruppe richtet sich vor allem an jüngere Personen\, um einen Raum für Gleichgesinnte zu schaffen\, aber jeder ist natürlich willkommen.\n\nAnmeldung und Vorkenntnisse sind nicht erforderlich. Interessierte sind jederzeit willkommen.\n\nZeit | 19.30 bis 21 Uhr\n\n\nIn den Tibethaus-Ferien und an Feiertagen findet die Meditation nicht statt. \nDie Teilnahme ist gebührenfrei; wir freuen uns über eine Spende für den Buddhismus-Bereich.
URL:https://www.tibethaus.com/event/meditation-fuer-junge-leute-reihe/2025-03-25/
LOCATION:Hessen
CATEGORIES:Buddhismus
ATTACH;FMTTYPE=image/jpeg:https://www.tibethaus.com/wp-content/uploads/Alex-e1727340278885.jpg
END:VEVENT
BEGIN:VEVENT
DTSTART;TZID=Europe/Berlin:20250326T193000
DTEND;TZID=Europe/Berlin:20250326T203000
DTSTAMP:20260422T025225
CREATED:20250117T102849Z
LAST-MODIFIED:20250117T102849Z
UID:10000533-1743017400-1743021000@www.tibethaus.com
SUMMARY:Offene Meditation (nur vor Ort)
DESCRIPTION:Leitung | Birgit Justl\, Martin Brüger und Pierre Gorsegner\n\nAn diesem offenen Abend\, der jeden Mittwoch stattfindet\, praktizieren wir gemeinsam grundlegende buddhistische Meditationen\, die uns zur Ruhe kommen lassen und die die Entwicklung von Achtsamkeit\, Mitgefühl und Erkenntnis fördern. \nIn regelmäßigen Abständen leitet der langjährige Zen-Praktizierende Pierre Gorsegner die Meditation in der Tradition des japanischen Zen Soto-shu an. \nFolgende Termine sind für die Zen-Meditation geplant: 22.01. und der 12.02. \nAnmeldung und Vorkenntnisse sind nicht erforderlich. Interessierte sind jederzeit willkommen. \nZeit | jeweils 19.30 bis 20.30 Uhr \nIn den Tibethaus-Ferien und an Feiertagen findet die Meditation nicht statt \nDie Teilnahme ist kostenlos; wir freuen uns über eine Spende für den BuddhismusBereich.
URL:https://www.tibethaus.com/event/offene-meditation-nur-vor-ort/2025-03-26/
LOCATION:Hessen
CATEGORIES:Buddhismus
ATTACH;FMTTYPE=image/jpeg:https://www.tibethaus.com/wp-content/uploads/2_00001-scaled.jpg
END:VEVENT
BEGIN:VEVENT
DTSTART;TZID=Europe/Berlin:20250328T190000
DTEND;TZID=Europe/Berlin:20250328T210000
DTSTAMP:20260422T025225
CREATED:20250206T144350Z
LAST-MODIFIED:20250206T144350Z
UID:10000556-1743188400-1743195600@www.tibethaus.com
SUMMARY:Mit dem Herzen hören – Achtsame Kommunikation am Lebensende (vor Ort + live online)
DESCRIPTION:Öffentlicher Vortrag | Heike Merkle \nDer Umgang mit Sterbenden und ihren Angehörigen ist eine zutiefst menschliche Herausforderung. Oft fehlen uns in diesen sensiblen Momenten die richtigen Worte – oder wir fragen uns\, ob es überhaupt Worte braucht. Achtsame Kommunikation am Lebensende bedeutet\, mit offener Präsenz\, Empathie und Respekt zu begegnen\, auch wenn der Abschied schwerfällt. \nIn diesem Vortrag widmen wir uns der Frage: Wie können wir in den letzten Momenten Verbundenheit entstehen lassen? \n\nDie Kunst des Zuhörens: Präsent sein\, ohne zu bewerten\nWorte\, die tragen: Wie achtsame Sprache Trost spenden kann\nStille als Kraftquelle: Wenn Schweigen mehr sagt als Worte\nDer Raum zwischen den Worten: Nonverbale Kommunikation verstehen\nSelbstfürsorge in der Begleitung: Eigene Emotionen annehmen und Grenzen wahren\n\nFür wen ist dieser Vortrag gedacht? \nFür alle\, die Menschen in den letzten Lebensphasen begleiten – beruflich oder privat: \n\nPflege- und Hospizmitarbeitende\nAngehörige von Sterbenden\nEhrenamtliche in der Sterbebegleitung\nInteressierte\, die ihre Kommunikationsfähigkeit vertiefen möchten\n\nZiel des Vortrags: \n\nSensibilisierung für die Bedeutung von achtsamer Kommunikation am Lebensende\nStärkung der Fähigkeit\, mit Unsicherheiten und Sprachlosigkeit umzugehen\nMut zur Begegnung mit dem\, was unausgesprochen bleibt\n\nWir freuen uns auf einen Abend des Austauschs\, der Reflexion und der stillen Begegnung. \n„Nicht alles muss gesagt werden. Aber alles\, was gesagt wird\, kann mit Liebe gesagt werden.“
URL:https://www.tibethaus.com/event/achtsame-kommunikation-am-lebensende/
LOCATION:Tibethaus Deutschland\, Georg-Voigt-Straße 4\, Frankfurt\, Hessen\, 60325
CATEGORIES:Persönlichkeit
ATTACH;FMTTYPE=image/jpeg:https://www.tibethaus.com/wp-content/uploads/1Heike_Merkle_002-Kopie-scaled.jpg
END:VEVENT
END:VCALENDAR