BEGIN:VCALENDAR
VERSION:2.0
PRODID:-//Tibethaus Deutschland e.V. - ECPv6.15.17.1//NONSGML v1.0//EN
CALSCALE:GREGORIAN
METHOD:PUBLISH
X-WR-CALNAME:Tibethaus Deutschland e.V.
X-ORIGINAL-URL:https://www.tibethaus.com
X-WR-CALDESC:Veranstaltungen für Tibethaus Deutschland e.V.
REFRESH-INTERVAL;VALUE=DURATION:PT1H
X-Robots-Tag:noindex
X-PUBLISHED-TTL:PT1H
BEGIN:VTIMEZONE
TZID:Europe/Berlin
BEGIN:DAYLIGHT
TZOFFSETFROM:+0100
TZOFFSETTO:+0200
TZNAME:CEST
DTSTART:20230326T010000
END:DAYLIGHT
BEGIN:STANDARD
TZOFFSETFROM:+0200
TZOFFSETTO:+0100
TZNAME:CET
DTSTART:20231029T010000
END:STANDARD
BEGIN:DAYLIGHT
TZOFFSETFROM:+0100
TZOFFSETTO:+0200
TZNAME:CEST
DTSTART:20240331T010000
END:DAYLIGHT
BEGIN:STANDARD
TZOFFSETFROM:+0200
TZOFFSETTO:+0100
TZNAME:CET
DTSTART:20241027T010000
END:STANDARD
BEGIN:DAYLIGHT
TZOFFSETFROM:+0100
TZOFFSETTO:+0200
TZNAME:CEST
DTSTART:20250330T010000
END:DAYLIGHT
BEGIN:STANDARD
TZOFFSETFROM:+0200
TZOFFSETTO:+0100
TZNAME:CET
DTSTART:20251026T010000
END:STANDARD
END:VTIMEZONE
BEGIN:VEVENT
DTSTART;TZID=Europe/Berlin:20240821T193000
DTEND;TZID=Europe/Berlin:20240821T203000
DTSTAMP:20260421T204948
CREATED:20240820T084902Z
LAST-MODIFIED:20240820T084902Z
UID:10000377-1724268600-1724272200@www.tibethaus.com
SUMMARY:Geleitete Meditation (nur vor Ort)
DESCRIPTION:Leitung | Birgit Justl\, Martin Brüger und Pierre Gorsegner\n\n\nAn diesem offenen Abend\, der jeden Mittwoch stattfindet\, praktizieren wir gemeinsam grundlegende buddhistische Meditationen\, die uns zur Ruhe kommen lassen und die die Entwicklung von Achtsamkeit\, Mitgefühl und Erkenntnis fördern. \nIn regelmäßigen Abständen leitet der langjährige Zen-Praktizierende Pierre Gorsegner die Meditation in der Tradition des japanischen Zen Soto-shu an. \nFolgende Termine sind für die Zen-Meditation geplant: 10.7.\, 7.8.\, 11.9.\, 2.10.\, 9.10.\, 16.10.\, 23.10. und 20.11.2024. \nAnmeldung und Vorkenntnisse sind nicht erforderlich. Interessierte sind jederzeit willkommen. \nZeit | jeweils 19.30 bis 20.30 Uhr \nIn den Tibethaus-Ferien und an Feiertagen findet die Meditation nicht satt \nDie Teilnahme ist kostenlos; wir freuen uns über eine Spende für den BuddhismusBereich.
URL:https://www.tibethaus.com/event/geleitete-meditation-nur-vor-ort-6/
LOCATION:Tibethaus Deutschland\, Georg-Voigt-Straße 4\, Frankfurt\, Hessen\, 60325
CATEGORIES:Buddhismus
ATTACH;FMTTYPE=image/jpeg:https://www.tibethaus.com/wp-content/uploads/2_00001-scaled.jpg
END:VEVENT
BEGIN:VEVENT
DTSTART;TZID=Europe/Berlin:20240823T190000
DTEND;TZID=Europe/Berlin:20240823T203000
DTSTAMP:20260421T204948
CREATED:20240528T121045Z
LAST-MODIFIED:20240815T130434Z
UID:10000341-1724439600-1724445000@www.tibethaus.com
SUMMARY:BUDDHISMUS BEGREIFEN – Die Stufen des Pfades  Grundlagenstudium und Praxisprogramm (Infoabend) (vor Ort + online)
DESCRIPTION:Leitung | Ehrw. Shenphen Rinpoche \nKursbetreuung | Andreas Ansmann\, Karl Rumpf und Studienbegleiter \nEin Studien- und Praxisprogramm zum neuen Buch des Dalai Lama: DIE STUFEN DES PFADES ZUR ERLEUCHTUNG (Herder Verlag) \n\n\n\n\n\n\n\n\n\n\n\n\n\n\n\nDer Lamrim ist das Eintrittstor für das Verständnis des Buddhismus. Im September 2024 startet hierzu unser neues zweijähriges Studien- und Praxisprogramm. Lamrim (tib. lam rim\, dt. Stufenweg) − Der Stufenweg zur Erleuchtung − ist eine kompakte Zusammenstellung aller Themen\, die für die buddhistische Praxis wichtig sind. Die Erklärungen bauen logisch aufeinander auf\, von leicht zugänglich zu sehr anspruchsvoll. So hilft der Lamrim Anfängern wie Fortgeschrittenen\, auf ihrem individuellen Weg die nächsten Schritte zu gehen. \nDoch auch wenn man kein Buddhist ist\, kann man von dieser klaren\, systematischen und aufeinander aufbauenden Darlegung von Themen profitieren und wertvolle Denkanstöße für das eigene Leben erhalten. Denn es geht um unser Zusammenleben mit anderen in dieser Welt. Ob wir es wollen oder nicht\, wir sind mit allen anderen zutiefst verbunden und vernetzt. Es liegt an uns\, daraus ein beglückendes Erlebnis für uns selbst und andere zu machen. \nWeitere Informationen zum Studienprogramm finden sie hier. \n\nFür die online Teilnahme benutzen sie bitte folgenden Link: \n\nBeitreten Zoom Meeting\nhttps://us06web.zoom.us/j/88117090459 \nMeeting-ID: 881 1709 0459\nKenncode: 951351 \nMöchten sie vor Ort teilnehmen benutzen sie bitte unser Ticketsystem weiter unten. Danke.
URL:https://www.tibethaus.com/event/buddhismus-begreifen-die-stufen-des-pfades-grundlagenstudium-und-praxisprogramm-infoabend-vor-ort-online/
LOCATION:
CATEGORIES:Buddhismus
ATTACH;FMTTYPE=image/jpeg:https://www.tibethaus.com/wp-content/uploads/SK-Shenphen-Rinpche-09.03.20-918-scaled-e1713429892679.jpg
END:VEVENT
BEGIN:VEVENT
DTSTART;TZID=Europe/Berlin:20240824T110000
DTEND;TZID=Europe/Berlin:20240824T180000
DTSTAMP:20260421T204948
CREATED:20231211T155740Z
LAST-MODIFIED:20240522T101718Z
UID:10000257-1724497200-1724522400@www.tibethaus.com
SUMMARY:Füllen von tibetisch buddhistischen Statuen (nur vor Ort)
DESCRIPTION:Workshop | Thoesam Rinpoche \nAuf vielfache Nachfrage hin bieten wir wieder unter der Leitung unseres erfahrenen Kulturbereichsleiters einen Workshop an\, zu dem die Teilnehmer/innen ihre Statuen mitbringen und selbst unter Anleitung mit den entsprechenden Mantra-Rollen\, Heilkräutern und weiteren traditionellen Zutaten füllen und versiegeln können. Begleitet wird dieser Prozess durch die Rezitation von Mantren. Bitte schicken Sie im Voraus Fotos und Maße der Statuen. Für die Füllmaterialien wird zusätzlich eine Gebühr entsprechend der Größe der Statue erhoben. \nAnmeldung bitte bis spätestens eine Woche vorher.
URL:https://www.tibethaus.com/event/fuellen-von-tibetisch-buddhistischen-statuen-nur-vor-ort/
LOCATION:Tibethaus Deutschland\, Georg-Voigt-Straße 4\, Frankfurt\, Hessen\, 60325
CATEGORIES:Kultur
ATTACH;FMTTYPE=image/jpeg:https://www.tibethaus.com/wp-content/uploads/Avalokiteshvara-22-cm-Art.-Nr.-1375-2021A_a-Kopie-scaled.jpg
END:VEVENT
END:VCALENDAR