BEGIN:VCALENDAR
VERSION:2.0
PRODID:-//Tibethaus Deutschland e.V. - ECPv6.15.17.1//NONSGML v1.0//EN
CALSCALE:GREGORIAN
METHOD:PUBLISH
X-ORIGINAL-URL:https://www.tibethaus.com
X-WR-CALDESC:Veranstaltungen für Tibethaus Deutschland e.V.
REFRESH-INTERVAL;VALUE=DURATION:PT1H
X-Robots-Tag:noindex
X-PUBLISHED-TTL:PT1H
BEGIN:VTIMEZONE
TZID:Europe/Berlin
BEGIN:DAYLIGHT
TZOFFSETFROM:+0100
TZOFFSETTO:+0200
TZNAME:CEST
DTSTART:20230326T010000
END:DAYLIGHT
BEGIN:STANDARD
TZOFFSETFROM:+0200
TZOFFSETTO:+0100
TZNAME:CET
DTSTART:20231029T010000
END:STANDARD
BEGIN:DAYLIGHT
TZOFFSETFROM:+0100
TZOFFSETTO:+0200
TZNAME:CEST
DTSTART:20240331T010000
END:DAYLIGHT
BEGIN:STANDARD
TZOFFSETFROM:+0200
TZOFFSETTO:+0100
TZNAME:CET
DTSTART:20241027T010000
END:STANDARD
BEGIN:DAYLIGHT
TZOFFSETFROM:+0100
TZOFFSETTO:+0200
TZNAME:CEST
DTSTART:20250330T010000
END:DAYLIGHT
BEGIN:STANDARD
TZOFFSETFROM:+0200
TZOFFSETTO:+0100
TZNAME:CET
DTSTART:20251026T010000
END:STANDARD
END:VTIMEZONE
BEGIN:VEVENT
DTSTART;VALUE=DATE:20240520
DTEND;VALUE=DATE:20240521
DTSTAMP:20260421T210848
CREATED:20231211T162659Z
LAST-MODIFIED:20240327T113553Z
UID:10000262-1716163200-1716249599@www.tibethaus.com
SUMMARY:Reise nach Dharamsala über Saka Dawa (Beginn)
DESCRIPTION:SONNTAG 20. MAI BIS SONNTAG 2. JUNI 2024 \nLeitung | Thoesam Rinpoche \nAuf dieser Reise\, die von unserem Kulturbereichsleiter schon wiederholt erfolgreich geleitet wurde\, lernen wir die lebendige tibetische Kultur hautnah kennen. Dharamsala ist seit mehr als 60 Jahren die Heimat des XIV. Dalai Lama. Es ist auch der Ort\, an dem die tibetische Exilregierung und viele andere kulturelle und religiöse Institutionen angesiedelt sind\, die von der Gruppe besucht werden. Glücklicherweise werden wir am höchsten tibetischen Feiertag\, Saka Dawa Düchen vor Ort sein und erfahren\, wie Tibeter/innen diesen besonderen Tag traditionell feiern. \nHinweis: Es handelt sich um eine Kooperationsveranstaltung mit dem bewährten Reiseanbieter NEUE Wege! \nNähere Informationen und Anmeldung hier klicken. \nWenn Sie sich noch die Aufnahme des Info-Abends anschauen möchten\, können Sie diese über unser Büro (info@tibethaus.com) anfordern. \nAnmeldeschluss ist vier Wochen vorher.
URL:https://www.tibethaus.com/event/reise-nach-dharamsala-ueber-saka-dawa-beginn/
LOCATION:Tibethaus Deutschland\, Georg-Voigt-Straße 4\, Frankfurt\, Hessen\, 60325
CATEGORIES:Kultur
END:VEVENT
BEGIN:VEVENT
DTSTART;TZID=Europe/Berlin:20240524T183000
DTEND;TZID=Europe/Berlin:20240524T200000
DTSTAMP:20260421T210848
CREATED:20231211T161206Z
LAST-MODIFIED:20240506T105324Z
UID:10000259-1716575400-1716580800@www.tibethaus.com
SUMMARY:Saka Dawa Düchen − Das Leben des Buddha (nur vor Ort)
DESCRIPTION:„Saka Dawa” nennt sich im Tibetischen der Monat\, in dem buddhistische Traditionen ihre wichtigsten Feiertage wie Buddhas Geburt\, Erleuchtung und Parinirvana feiern\, und wir freuen uns sehr\, dass wir diesen besonderen Tag zusammen mit anderen buddhistischen Gruppen hier in Frankfurt feiern werden. Die Veranstaltung beginnt mit einer gemeinsamen Rezitation des „Herz-Sutra”\, gefolgt von einem kurzen Überblick über die Lebensgeschichte des Buddha. Sie alle sind herzlich willkommen. \nAnmeldeschluss ist eine Woche vorher. \nTeilnahme gebührenfrei; wir freuen uns über eine Spende für den Buddhismus-Bereich.
URL:https://www.tibethaus.com/event/saka-dawa-duechen-%e2%88%92-das-leben-des-buddha-nur-vor-ort/
LOCATION:Tibethaus Deutschland\, Georg-Voigt-Straße 4\, Frankfurt\, Hessen\, 60325
CATEGORIES:Kultur
ATTACH;FMTTYPE=image/jpeg:https://www.tibethaus.com/wp-content/uploads/23.10.-3.jpg
END:VEVENT
END:VCALENDAR