BEGIN:VCALENDAR
VERSION:2.0
PRODID:-//Tibethaus Deutschland e.V. - ECPv6.15.17.1//NONSGML v1.0//EN
CALSCALE:GREGORIAN
METHOD:PUBLISH
X-WR-CALNAME:Tibethaus Deutschland e.V.
X-ORIGINAL-URL:https://www.tibethaus.com
X-WR-CALDESC:Veranstaltungen für Tibethaus Deutschland e.V.
REFRESH-INTERVAL;VALUE=DURATION:PT1H
X-Robots-Tag:noindex
X-PUBLISHED-TTL:PT1H
BEGIN:VTIMEZONE
TZID:Europe/Berlin
BEGIN:DAYLIGHT
TZOFFSETFROM:+0100
TZOFFSETTO:+0200
TZNAME:CEST
DTSTART:20250330T010000
END:DAYLIGHT
BEGIN:STANDARD
TZOFFSETFROM:+0200
TZOFFSETTO:+0100
TZNAME:CET
DTSTART:20251026T010000
END:STANDARD
BEGIN:DAYLIGHT
TZOFFSETFROM:+0100
TZOFFSETTO:+0200
TZNAME:CEST
DTSTART:20260329T010000
END:DAYLIGHT
BEGIN:STANDARD
TZOFFSETFROM:+0200
TZOFFSETTO:+0100
TZNAME:CET
DTSTART:20261025T010000
END:STANDARD
BEGIN:DAYLIGHT
TZOFFSETFROM:+0100
TZOFFSETTO:+0200
TZNAME:CEST
DTSTART:20270328T010000
END:DAYLIGHT
BEGIN:STANDARD
TZOFFSETFROM:+0200
TZOFFSETTO:+0100
TZNAME:CET
DTSTART:20271031T010000
END:STANDARD
END:VTIMEZONE
BEGIN:VEVENT
DTSTART;TZID=Europe/Berlin:20260307T100000
DTEND;TZID=Europe/Berlin:20260308T130000
DTSTAMP:20260420T173346
CREATED:20251112T151319Z
LAST-MODIFIED:20260302T143701Z
UID:10001318-1772877600-1772974800@www.tibethaus.com
SUMMARY:Acht Verse der Geistesschulung (vor Ort + live online)
DESCRIPTION:SAMSTAG 7. BIS SONNTAG 8. MÄRZ 2026 \nBei zwischenmenschlichen Herausforderungen und widrigen Umstände neigen wir entweder dazu\, mit dem Finger auf andere zu zeigen oder uns selbst zu verurteilen. Echtes Mitgefühl ist das Gegenmittel für beide Extreme. Die acht Lojong-Verse von Geshes Langri Thangpa (1054 bis 1123) helfen uns dabei\, mit entschlossenem Mitgefühl zu reagieren\, statt mit Ärger und Frustration. Sie beinhalten beide Kernpunkte des buddhistischen Weges – Mitgefühl und Weisheit.  \nZeit | Samstag 10 bis 18 Uhr und Sonntag 9.30 bis 13 Uhr  \n \nGeshe Ngawang Thapkhe ist ein tibetischer Gelehrter und Meditationsmeister der buddhistischen Gelugpa Tradition und wurde 1969 in Dharamsala in Nordindien geboren. Er wuchs die ersten acht Jahre seines Lebens in einem SOS-Kinderdorf für tibetische Flüchtlinge auf. Sein Vater war dort Koch\, seine Mutter\, die leider in der Nacht seiner Geburt starb\, arbeitete als Kinderbetreuerin.  \nMit neun Jahren trat er in das Kloster Sera in Südindien ein und erhielt dort die vollständige Klosterausbildung\, die er 1995 mit der Geshe-Prüfung (Doktor der buddhistischen Philosophie) abschloss. Seine Hauptlehrer waren Geshe Lotse\, Geshe Trinley Dorje\, Geshe Jamyang Namgyal und Geshe Lobsang Palden. Danach besuchte er für zwei Jahre die Gyuto Tantra-Universität\, um seine Kenntnisse in Ritualen\, Mudras\, der Mandala-Herstellung und der tantrischen Philosophie zu erweitern. Abschließend studierte er in Sarnath für drei Jahre tibetische Medizin und Sanskrit.  \n1999 erhielt Geshe-la eine erste Einladung nach Deutschland. Auf Grund der Bitten einiger Schüler siedelte er dann im Jahr 2000 permanent nach Deutschland über. Buddhisten wie Nichtbuddhisten nutzen sein Wissen\, um sich spirituell weiterzuentwickeln. Er steht besonders jenen bei\, die sich in einer schwierigen Lebenssituation befinden und ist gerne bereit\, Gebete und ggf. Rituale durchzuführen. Er spricht englisch und deutsch. Wann immer es ihm erlaubt ist\, besucht er seine Verwandten in Tibet und Indien. \nAußerdem gründete er und betreut seitdem ein Straßenkinderprojekt und ein Rettungsprojekt für Schlachttiere in Lhasa. Geshe-la wandert gerne\, außerdem ist er ein großer Film-Fan.  \n  \nUnsere Kursgebühren folgen dem Gedanken der gegenseitigen Unterstützung:\nManche tragen mehr\, damit andere weniger zahlen können – und gemeinsam ermöglichen wir so ein offenes\, vielfältiges Miteinander. Der reguläre Beitrag hilft\, das Tibethaus auf eine stabile Grundlage zu stellen und gleichzeitig Teilhabe für alle zu schaffen.  Ein kleiner Beitrag mit großer Wirkung – herzlichen Dank für eure Solidarität und Verbundenheit. \nErmäßigte Kursgebühren \nUnsere ermäßigten Gebühren richten sich an Menschen mit geringeren finanziellen Möglichkeiten – zum Beispiel Schüler/innen\, Student/innen\, Auszubildende\, Erwerbslose oder Rentner/innen mit kleiner Rente. Wir vertrauen darauf\, dass jede und jeder die passende Gebühr nach den eigenen Möglichkeiten wählt. In Einzelfällen können wir um einen Nachweis bitten.
URL:https://www.tibethaus.com/event/acht-verse-der-geistesschulung/
LOCATION:Tibethaus Deutschland\, Georg-Voigt-Straße 4\, Frankfurt\, Hessen\, 60325
CATEGORIES:Buddhismus
ATTACH;FMTTYPE=image/jpeg:https://www.tibethaus.com/wp-content/uploads/Foto-8.2-scaled.jpg
END:VEVENT
END:VCALENDAR