BEGIN:VCALENDAR
VERSION:2.0
PRODID:-//Tibethaus Deutschland e.V. - ECPv6.15.17.1//NONSGML v1.0//EN
CALSCALE:GREGORIAN
METHOD:PUBLISH
X-ORIGINAL-URL:https://www.tibethaus.com
X-WR-CALDESC:Veranstaltungen für Tibethaus Deutschland e.V.
REFRESH-INTERVAL;VALUE=DURATION:PT1H
X-Robots-Tag:noindex
X-PUBLISHED-TTL:PT1H
BEGIN:VTIMEZONE
TZID:Europe/Berlin
BEGIN:DAYLIGHT
TZOFFSETFROM:+0100
TZOFFSETTO:+0200
TZNAME:CEST
DTSTART:20230326T010000
END:DAYLIGHT
BEGIN:STANDARD
TZOFFSETFROM:+0200
TZOFFSETTO:+0100
TZNAME:CET
DTSTART:20231029T010000
END:STANDARD
BEGIN:DAYLIGHT
TZOFFSETFROM:+0100
TZOFFSETTO:+0200
TZNAME:CEST
DTSTART:20240331T010000
END:DAYLIGHT
BEGIN:STANDARD
TZOFFSETFROM:+0200
TZOFFSETTO:+0100
TZNAME:CET
DTSTART:20241027T010000
END:STANDARD
BEGIN:DAYLIGHT
TZOFFSETFROM:+0100
TZOFFSETTO:+0200
TZNAME:CEST
DTSTART:20250330T010000
END:DAYLIGHT
BEGIN:STANDARD
TZOFFSETFROM:+0200
TZOFFSETTO:+0100
TZNAME:CET
DTSTART:20251026T010000
END:STANDARD
END:VTIMEZONE
BEGIN:VEVENT
DTSTART;TZID=Europe/Berlin:20240906T193000
DTEND;TZID=Europe/Berlin:20240906T210000
DTSTAMP:20260421T073234
CREATED:20240522T100508Z
LAST-MODIFIED:20240828T134546Z
UID:10000324-1725651000-1725656400@www.tibethaus.com
SUMMARY:Pilgerreise-Themenabend (vor Ort und live online)
DESCRIPTION:Lichtbildvortrag | Thoesam Rinpoche  \nVor etwa 2550 Jahren wurde Prinz Siddhartha in Lumbini geboren\, der später durch lange\,tiefe Meditation unter dem Bodhi-Baum in Bodh Gaya erleuchtet und zu Buddha wurde. Dann gab er verschiedene Belehrungen an unterschiedlichen Orten\, darunter die erste in Varanasi über die Vier Edlen Wahrheiten. Buddha verstarb später in Kushinagar im Alter von 84 Jahren. An diesem Abend werden wir über das Leben des Buddha und die heiligen Orte sprechen\, an denen er einst lebte. Dies ist ein Informationsabend für die Pilgerreise\, die vom 16. bis 30. November 2024 stattfinden wird. \nDiese Veranstaltung wird in englischer Sprache abgehalten. \nAnmeldeschluss ist zwei Tage vorher.
URL:https://www.tibethaus.com/event/pilgerreise-themenabend-vor-ort-und-live-online/
LOCATION:Tibethaus Deutschland\, Georg-Voigt-Straße 4\, Frankfurt\, Hessen\, 60325
CATEGORIES:Kultur
END:VEVENT
END:VCALENDAR