BEGIN:VCALENDAR
VERSION:2.0
PRODID:-//Tibethaus Deutschland e.V. - ECPv6.15.17.1//NONSGML v1.0//EN
CALSCALE:GREGORIAN
METHOD:PUBLISH
X-WR-CALNAME:Tibethaus Deutschland e.V.
X-ORIGINAL-URL:https://www.tibethaus.com
X-WR-CALDESC:Veranstaltungen für Tibethaus Deutschland e.V.
REFRESH-INTERVAL;VALUE=DURATION:PT1H
X-Robots-Tag:noindex
X-PUBLISHED-TTL:PT1H
BEGIN:VTIMEZONE
TZID:Europe/Berlin
BEGIN:DAYLIGHT
TZOFFSETFROM:+0100
TZOFFSETTO:+0200
TZNAME:CEST
DTSTART:20250330T010000
END:DAYLIGHT
BEGIN:STANDARD
TZOFFSETFROM:+0200
TZOFFSETTO:+0100
TZNAME:CET
DTSTART:20251026T010000
END:STANDARD
BEGIN:DAYLIGHT
TZOFFSETFROM:+0100
TZOFFSETTO:+0200
TZNAME:CEST
DTSTART:20260329T010000
END:DAYLIGHT
BEGIN:STANDARD
TZOFFSETFROM:+0200
TZOFFSETTO:+0100
TZNAME:CET
DTSTART:20261025T010000
END:STANDARD
BEGIN:DAYLIGHT
TZOFFSETFROM:+0100
TZOFFSETTO:+0200
TZNAME:CEST
DTSTART:20270328T010000
END:DAYLIGHT
BEGIN:STANDARD
TZOFFSETFROM:+0200
TZOFFSETTO:+0100
TZNAME:CET
DTSTART:20271031T010000
END:STANDARD
END:VTIMEZONE
BEGIN:VEVENT
DTSTART;TZID=Europe/Berlin:20260404T183000
DTEND;TZID=Europe/Berlin:20260404T193000
DTSTAMP:20260422T093844
CREATED:20251113T155937Z
LAST-MODIFIED:20251113T155937Z
UID:10001400-1775327400-1775331000@www.tibethaus.com
SUMMARY:Medizinbuddha Puja mit Shenphen Rinpoche (in tibetischer Sprache)
DESCRIPTION:Shenphen Rinpoche wird einmal im Monat im Wechsel die Praxis der Grünen Tara sowie die Medizinbuddha-Praxis durchführen. \nDie Rezitation findet auf Tibetisch statt. \nAnmeldung ist nicht erforderlich\, alle Interessierten sind willkommen. \nZeit | 18.30 bis 19.30 Uhr  \nFolgende Termin sind im 1. Halbjahr 2026 geplant: 2.5. (Grüne Tara)\, 6.6. (Medizinbuddha) und 4.7.2026 (Grüne Tara)
URL:https://www.tibethaus.com/event/medizinbuddha-puja-ap/
CATEGORIES:Buddhismus
ATTACH;FMTTYPE=image/jpeg:https://www.tibethaus.com/wp-content/uploads/SK-Shenphen-Rinpche-09.03.20-918-scaled-e1713429892679.jpg
END:VEVENT
END:VCALENDAR