BEGIN:VCALENDAR
VERSION:2.0
PRODID:-//Tibethaus Deutschland e.V. - ECPv6.15.17.1//NONSGML v1.0//EN
CALSCALE:GREGORIAN
METHOD:PUBLISH
X-WR-CALNAME:Tibethaus Deutschland e.V.
X-ORIGINAL-URL:https://www.tibethaus.com
X-WR-CALDESC:Veranstaltungen für Tibethaus Deutschland e.V.
REFRESH-INTERVAL;VALUE=DURATION:PT1H
X-Robots-Tag:noindex
X-PUBLISHED-TTL:PT1H
BEGIN:VTIMEZONE
TZID:Europe/Berlin
BEGIN:DAYLIGHT
TZOFFSETFROM:+0100
TZOFFSETTO:+0200
TZNAME:CEST
DTSTART:20240331T010000
END:DAYLIGHT
BEGIN:STANDARD
TZOFFSETFROM:+0200
TZOFFSETTO:+0100
TZNAME:CET
DTSTART:20241027T010000
END:STANDARD
BEGIN:DAYLIGHT
TZOFFSETFROM:+0100
TZOFFSETTO:+0200
TZNAME:CEST
DTSTART:20250330T010000
END:DAYLIGHT
BEGIN:STANDARD
TZOFFSETFROM:+0200
TZOFFSETTO:+0100
TZNAME:CET
DTSTART:20251026T010000
END:STANDARD
BEGIN:DAYLIGHT
TZOFFSETFROM:+0100
TZOFFSETTO:+0200
TZNAME:CEST
DTSTART:20260329T010000
END:DAYLIGHT
BEGIN:STANDARD
TZOFFSETFROM:+0200
TZOFFSETTO:+0100
TZNAME:CET
DTSTART:20261025T010000
END:STANDARD
END:VTIMEZONE
BEGIN:VEVENT
DTSTART;VALUE=DATE:20250913
DTEND;VALUE=DATE:20250929
DTSTAMP:20260421T053029
CREATED:20250602T103523Z
LAST-MODIFIED:20250815T135044Z
UID:10000741-1757721600-1759103999@www.tibethaus.com
SUMMARY:Kulturreise nach Ladakh
DESCRIPTION:SAMSTAG 13. BIS SONNTAG 28. SEPTEMBER 2025 \nReise | Thoesam Rinpoche  \nSeit 2022 organisiert das Tibethaus Deutschland Kulturreisen\, die authentische Einblicke in die tibetische Kultur und den Alltag ermöglichen. In diesem Jahr reisen wir nach Ladakh – eine Region\, die sowohl kulturell als auch landschaftlich bemerkenswerte Ähnlichkeiten mit Tibet aufweist. Auf dieser eindrucksvollen Reise besuchen wir jahrhundertealte Klöster\, erleben die Freude und Einfachheit des traditionellen ladakhischen Lebens und genießen atemberaubende Landschaften\, die Sie immer wieder aufs Neue faszinieren werden. \nWir freuen uns außerdem\, Ihnen schon jetzt einen Ausblick auf das Reiseziel im nächsten Jahr zu geben: Dharamsala – die Heimat Seiner Heiligkeit des XIV. Dalai Lama und seit über 60 Jahren Sitz der tibetischen Exilregierung. \nBei Interesse bitte eine E-Mail an: kunstkultur@tibethaus.com
URL:https://www.tibethaus.com/event/kulturreise-nach-ladakh/
LOCATION:Tibethaus Deutschland\, Georg-Voigt-Straße 4\, Frankfurt\, Hessen\, 60325
CATEGORIES:Kultur
END:VEVENT
BEGIN:VEVENT
DTSTART;TZID=Europe/Berlin:20250915T193000
DTEND;TZID=Europe/Berlin:20250915T210000
DTSTAMP:20260421T053029
CREATED:20250417T083322Z
LAST-MODIFIED:20251017T142041Z
UID:10000858-1757964600-1757970000@www.tibethaus.com
SUMMARY:Stilles Sitzen (nur vor Ort / Offene Meditation)
DESCRIPTION:Leitung | Pierre Gorsegner\n\nIn der Tradition des Zazen (jap. Zen Soto-shu) sitzen wir zwei Einheiten (20 Minuten/30 Minuten)\, unterbrochen von einer Entspannungsübung\, um Energie und Ruhe für die neue Woche zu sammeln. Anmeldung ist nicht erforderlich.\n\nZeit | jeweils 19.30 bis 21 Uhr\n\nIn den Tibethaus-Ferien und an Feiertagen findet die Meditation nicht statt.\n\n\nDie Teilnahme ist gebührenfrei; wir freuen uns über eine Spende für den Buddhismus-Bereich.
URL:https://www.tibethaus.com/event/stilles-sitzen-nur-vor-ort-reihe-4-2-2/2025-09-15/
LOCATION:Hessen
CATEGORIES:Buddhismus
ATTACH;FMTTYPE=image/jpeg:https://www.tibethaus.com/wp-content/uploads/iStock-1391404962.jpg
END:VEVENT
BEGIN:VEVENT
DTSTART;TZID=Europe/Berlin:20250915T193000
DTEND;TZID=Europe/Berlin:20250915T210000
DTSTAMP:20260421T053029
CREATED:20250605T150221Z
LAST-MODIFIED:20250724T113934Z
UID:10000760-1757964600-1757970000@www.tibethaus.com
SUMMARY:Hatha-Yoga-Kurs (Mittelstufe) (live online) (Beginn)
DESCRIPTION:MONTAG 15. SEPTEMBER BIS 8. DEZEMBER 2025 \nLeitung | Claudia Rauer  \nIm AYUR-Yoga vereinen sich Erkenntnisse aus der traditionellen indischen Heilkunst Ayurveda und aus Konzepten der westlichen Anatomie. Durch genaue Ausrichtung und Anpassung der Übungen werden verspannte Muskeln gelöst und gekräftigt\, so dass sich der Körper wieder richtig ausrichten kann und in sein ursprünglich har- monisches Bewegungskonzept zurückfindet. Rücken- und Gelenkbeschwerden können durch regelmäßige praktizierte Yoga-Übungen gelindert werden\, so dass die Selbstheilungskräfte aktiviert werden. Neben den Körperübungen geht es auch darum\, die Atmung zu schulen und auf die Meditation vorzubereiten. \nDer Kurs ist als Präventionskurs zertifiziert (anteilige Erstattung von gesetzlichen Krankenkassen). \nAnmeldeschluss ist eine Woche vorher. \nRegulär 175 Euro | Mitglieder 105 Euro  \nZeit | 19.30 bis 21 Uhr; findet nicht am 6.\, 13. und 20.10.2025 statt
URL:https://www.tibethaus.com/event/hatha-yoga-kurs-mittelstufe-live-online-beginn-2/
LOCATION:Tibethaus Deutschland\, Georg-Voigt-Straße 4\, Frankfurt\, Hessen\, 60325
CATEGORIES:Heilkunde
ATTACH;FMTTYPE=image/jpeg:https://www.tibethaus.com/wp-content/uploads/Unknown-5-e1730456416720.jpeg
END:VEVENT
END:VCALENDAR