BEGIN:VCALENDAR
VERSION:2.0
PRODID:-//Tibethaus Deutschland e.V. - ECPv6.15.17.1//NONSGML v1.0//EN
CALSCALE:GREGORIAN
METHOD:PUBLISH
X-WR-CALNAME:Tibethaus Deutschland e.V.
X-ORIGINAL-URL:https://www.tibethaus.com
X-WR-CALDESC:Veranstaltungen für Tibethaus Deutschland e.V.
REFRESH-INTERVAL;VALUE=DURATION:PT1H
X-Robots-Tag:noindex
X-PUBLISHED-TTL:PT1H
BEGIN:VTIMEZONE
TZID:Europe/Berlin
BEGIN:DAYLIGHT
TZOFFSETFROM:+0100
TZOFFSETTO:+0200
TZNAME:CEST
DTSTART:20230326T010000
END:DAYLIGHT
BEGIN:STANDARD
TZOFFSETFROM:+0200
TZOFFSETTO:+0100
TZNAME:CET
DTSTART:20231029T010000
END:STANDARD
BEGIN:DAYLIGHT
TZOFFSETFROM:+0100
TZOFFSETTO:+0200
TZNAME:CEST
DTSTART:20240331T010000
END:DAYLIGHT
BEGIN:STANDARD
TZOFFSETFROM:+0200
TZOFFSETTO:+0100
TZNAME:CET
DTSTART:20241027T010000
END:STANDARD
BEGIN:DAYLIGHT
TZOFFSETFROM:+0100
TZOFFSETTO:+0200
TZNAME:CEST
DTSTART:20250330T010000
END:DAYLIGHT
BEGIN:STANDARD
TZOFFSETFROM:+0200
TZOFFSETTO:+0100
TZNAME:CET
DTSTART:20251026T010000
END:STANDARD
END:VTIMEZONE
BEGIN:VEVENT
DTSTART;TZID=Europe/Berlin:20240826T183000
DTEND;TZID=Europe/Berlin:20240826T210000
DTSTAMP:20260421T190404
CREATED:20240522T101908Z
LAST-MODIFIED:20240820T100643Z
UID:10000312-1724697000-1724706000@www.tibethaus.com
SUMMARY:MBSR (Mindfulness-Based Stress Reduction) (Beginn) Kurs 5_2024 | Christian Stocker
DESCRIPTION:Stressbewältigung durch Achtsamkeit nach Prof. Dr. Jon Kabat-Zinn \nAchtsamkeit ist das ruhige und gelassene Wahrnehmen von allem\, was um und in uns auftaucht. Sich dabei von Gedanken und Verhaltensmustern freizumachen\, hilft Blockaden zu überwinden\, Stress abzubauen und besser mit Ängsten und Schmerzen umzugehen. MBSR hilft Menschen\, die nach effektiven Methoden der Stressbewältigung suchen\, die unter Beschwerden als Folge von Überlastungen leiden\, bewusster leben oder einen aktiven Beitrag zum Erhalt ihrer Gesundheit und inneren Balance leisten möchten. \nWeitere Informationen (unter MBSR Info) im Vorstellungsvideo von unseren MBSR-Trainern Heike Merkle und Christian Stocker sowie im persönlichen Vorstellungsgespräch. \nZeit | jeweils 18.30 bis 21 Uhr  \nFolgende Termine sind vorgesehen: 26.8.\, 2.9.\, 16.9.\, 23.09.\, 30.9.\, 7.10.\, 14.10.\, 21.10.2024 sowie ein Achtsamkeitstag am 12.10.2024 von 10 bis 16 Uhr. \nRegulär 410 Euro | Mitglieder 360 Euro | Ermäßigter Preis auf Anfrage  \nAnmeldeschluss ist jeweils eine Woche vorher. \nBITTE BEACHTEN: Sie erhalten ein kostenloses Anmeldeformular. Nach Bearbeitung und wenn alle Kriterien erfüllt sind kommt es zu einer Anmeldung.
URL:https://www.tibethaus.com/event/mbsr-mindfulness-based-stress-reduction-beginn-kurs-5_2024-christian-stocker/
LOCATION:Tibethaus Deutschland\, Georg-Voigt-Straße 4\, Frankfurt\, Hessen\, 60325
CATEGORIES:Persönlichkeit
ATTACH;FMTTYPE=image/jpeg:https://www.tibethaus.com/wp-content/uploads/2Zusaetzlich-Kopie.jpg
END:VEVENT
BEGIN:VEVENT
DTSTART;TZID=Europe/Berlin:20240826T193000
DTEND;TZID=Europe/Berlin:20240826T210000
DTSTAMP:20260421T190404
CREATED:20240820T090345Z
LAST-MODIFIED:20240820T090442Z
UID:10000395-1724700600-1724706000@www.tibethaus.com
SUMMARY:Stilles Sitzen (nur vor Ort)
DESCRIPTION:Leitung | Pierre Gorsegner\n\nIn der Tradition des Zazen (jap. Zen Soto-shu) sitzen wir zwei Einheiten (20 Minuten/30 Minuten)\, unterbrochen von einer Entspannungsübung\, um Energie und Ruhe für die neue Woche zu sammeln. Anmeldung ist nicht erforderlich.\n\nZeit | jeweils 19.30 bis 21 Uhr\n\nIn den Tibethaus-Ferien und an Feiertagen findet die Meditation nicht satt.\n\n\nDie Teilnahme ist gebührenfrei; wir freuen uns über eine Spende für den Buddhismus-Bereich.
URL:https://www.tibethaus.com/event/stilles-sitzen-nur-vor-ort-2/
LOCATION:Tibethaus Deutschland\, Georg-Voigt-Straße 4\, Frankfurt\, Hessen\, 60325
CATEGORIES:Buddhismus
ATTACH;FMTTYPE=image/jpeg:https://www.tibethaus.com/wp-content/uploads/iStock-1391404962.jpg
END:VEVENT
END:VCALENDAR